Workbook
Name YES: 'USA Counties'!$D$2:$D$3
Name YES: #REF!

Sheet USA Counties
A1: Mapchart Id | B1: STATE | C1: USA County Name | D1: COLOR | E1: Annual Estimates of the Resident Population for Counties in the United States (as of July 1, 2025) | F1: Firearm Murder | G1: Firearm Murder Group | J1: Color | K1: Hex Color Code | L1: Firearm Murders | M1: Number of Counties | P1: Total Firearm Murders | S1: Total Population
A2: Aleutians_East__AK | B2: ALASKA | C2: Aleutians East | E2: 3479 | F2: 0 | G2: 0 | K2: ffffff | L2: 0 | M2: =COUNTIF(G:G,L2) -> 1981 | N2: =M2/$M$23 -> 0.6310927 | O2: =N2 -> 0.6310927 | P2: =SUMIF(G:G,L2,F:F) -> 0 | Q2: =P2/$P$23 -> 0 | R2: =Q2 -> 0 | S2: =SUMIF(G:G,L2,E:E) -> 58256953 | T2: =S2/$S$23 -> 0.17044919 | U2: =T2 -> 0.17044919
A3: Aleutians_West__AK | C3: Aleutians West | E3: 5240 | F3: 0 | G3: 0 | K3: fff8f8 | L3: 1 | M3: =COUNTIF(G:G,L3) -> 453 | N3: =M3/$M$23 -> 0.14431348 | O3: =N3+O2 -> 0.77540618 | P3: =SUMIF(G:G,L3,F:F) -> 453 | Q3: =P3/$P$23 -> 0.04877261 | R3: =Q3+R2 -> 0.04877261 | S3: =SUMIF(G:G,L3,E:E) -> 30488416 | T3: =S3/$S$23 -> 0.089203531 | U3: =T3+U2 -> 0.25965272
A4: Anchorage__AK | C4: Anchorage | E4: 287155 | F4: 20 | G4: 16-20 | K4: fff0ee | L4: 2 | M4: =COUNTIF(G:G,L4) -> 220 | N4: =M4/$M$23 -> 0.070086015 | O4: =N4+O3 -> 0.84549219 | P4: =SUMIF(G:G,L4,F:F) -> 440 | Q4: =P4/$P$23 -> 0.047372954 | R4: =Q4+R3 -> 0.096145564 | S4: =SUMIF(G:G,L4,E:E) -> 24620666 | T4: =S4/$S$23 -> 0.072035567 | U4: =T4+U3 -> 0.33168829
A5: Bethel__AK | C5: Bethel | E5: 18391 | F5: 0 | G5: 0 | K5: ffe9e6 | L5: 3 | M5: =COUNTIF(G:G,L5) -> 110 | N5: =M5/$M$23 -> 0.035043007 | O5: =N5+O4 -> 0.8805352 | P5: =SUMIF(G:G,L5,F:F) -> 330 | Q5: =P5/$P$23 -> 0.035529716 | R5: =Q5+R4 -> 0.13167528 | S5: =SUMIF(G:G,L5,E:E) -> 18096688 | T5: =S5/$S$23 -> 0.052947599 | U5: =T5+U4 -> 0.38463589
A6: Bristol_Bay__AK | C6: Bristol Bay | E6: 847 | F6: 0 | G6: 0 | K6: ffe4e0 | L6: 4 | M6: =COUNTIF(G:G,L6) -> 62 | N6: =M6/$M$23 -> 0.019751513 | O6: =N6+O5 -> 0.90028672 | P6: =SUMIF(G:G,L6,F:F) -> 248 | Q6: =P6/$P$23 -> 0.02670112 | R6: =Q6+R5 -> 0.1583764 | S6: =SUMIF(G:G,L6,E:E) -> 13326759 | T6: =S6/$S$23 -> 0.03899166 | U6: =T6+U5 -> 0.42362755
A7: Chugach__AK | C7: Chugach | E7: 6553 | F7: 0 | G7: 0 | K7: ffdbd6 | L7: 5 | M7: =COUNTIF(G:G,L7) -> 47 | N7: =M7/$M$23 -> 0.014972921 | O7: =N7+O6 -> 0.91525964 | P7: =SUMIF(G:G,L7,F:F) -> 235 | Q7: =P7/$P$23 -> 0.025301464 | R7: =Q7+R6 -> 0.18367786 | S7: =SUMIF(G:G,L7,E:E) -> 11760816 | T7: =S7/$S$23 -> 0.034409997 | U7: =T7+U6 -> 0.45803755
A8: Copper_River__AK | C8: Copper River | E8: 2666 | F8: 0 | G8: 0 | K8: ffd4cf | L8: 6 | M8: =COUNTIF(G:G,L8) -> 37 | N8: =M8/$M$23 -> 0.011787193 | O8: =N8+O7 -> 0.92704683 | P8: =SUMIF(G:G,L8,F:F) -> 222 | Q8: =P8/$P$23 -> 0.023901809 | R8: =Q8+R7 -> 0.20757967 | S8: =SUMIF(G:G,L8,E:E) -> 9003985 | T8: =S8/$S$23 -> 0.026344014 | U8: =T8+U7 -> 0.48438156
A9: Denali__AK | C9: Denali | E9: 1616 | F9: 0 | G9: 0 | K9: ffcec7 | L9: 7 | M9: =COUNTIF(G:G,L9) -> 25 | N9: =M9/$M$23 -> 0.0079643198 | O9: =N9+O8 -> 0.93501115 | P9: =SUMIF(G:G,L9,F:F) -> 175 | Q9: =P9/$P$23 -> 0.018841516 | R9: =Q9+R8 -> 0.22642119 | S9: =SUMIF(G:G,L9,E:E) -> 10541674 | T9: =S9/$S$23 -> 0.030843011 | U9: =T9+U8 -> 0.51522457
A10: Dillingham__AK | C10: Dillingham | E10: 4483 | F10: 0 | G10: 0 | K10: ffc7c0 | L10: 8 | M10: =COUNTIF(G:G,L10) -> 18 | N10: =M10/$M$23 -> 0.0057343103 | O10: =N10+O9 -> 0.94074546 | P10: =SUMIF(G:G,L10,F:F) -> 144 | Q10: =P10/$P$23 -> 0.015503876 | R10: =Q10+R9 -> 0.24192506 | S10: =SUMIF(G:G,L10,E:E) -> 4356806 | T10: =S10/$S$23 -> 0.012747218 | U10: =T10+U9 -> 0.52797179
A11: Fairbanks_North_Star__AK | C11: Fairbanks North Star | E11: 93972 | F11: 2 | G11: 2 | K11: ffc0b8 | L11: 9 | M11: =COUNTIF(G:G,L11) -> 13 | N11: =M11/$M$23 -> 0.0041414463 | O11: =N11+O10 -> 0.94488691 | P11: =SUMIF(G:G,L11,F:F) -> 117 | Q11: =P11/$P$23 -> 0.012596899 | R11: =Q11+R10 -> 0.25452196 | S11: =SUMIF(G:G,L11,E:E) -> 3960406 | T11: =S11/$S$23 -> 0.011587424 | U11: =T11+U10 -> 0.53955921
A12: Haines__AK | C12: Haines | E12: 2068 | F12: 0 | G12: 0 | K12: ffb7ae | L12: 10 | M12: =COUNTIF(G:G,L12) -> 16 | N12: =M12/$M$23 -> 0.0050971647 | O12: =N12+O11 -> 0.94998407 | P12: =SUMIF(G:G,L12,F:F) -> 160 | Q12: =P12/$P$23 -> 0.017226529 | R12: =Q12+R11 -> 0.27174849 | S12: =SUMIF(G:G,L12,E:E) -> 5757794 | T12: =S12/$S$23 -> 0.016846252 | U12: =T12+U11 -> 0.55640547
A13: Hoonah_Angoon__AK | C13: Hoonah Angoon | E13: 2271 | F13: 0 | G13: 0 | K13: ffb2a8 | L13: 11 | M13: =COUNTIF(G:G,L13) -> 23 | N13: =M13/$M$23 -> 0.0073271743 | O13: =N13+O12 -> 0.95731125 | P13: =SUMIF(G:G,L13,F:F) -> 253 | Q13: =P13/$P$23 -> 0.027239449 | R13: =Q13+R12 -> 0.29898794 | S13: =SUMIF(G:G,L13,E:E) -> 13266259 | T13: =S13/$S$23 -> 0.038814648 | U13: =T13+U12 -> 0.59522012
A14: Juneau__AK | C14: Juneau | E14: 31609 | F14: 1 | G14: 1 | K14: ffaa9f | L14: 12 | M14: =COUNTIF(G:G,L14) -> 8 | N14: =M14/$M$23 -> 0.0025485824 | O14: =N14+O13 -> 0.95985983 | P14: =SUMIF(G:G,L14,F:F) -> 96 | Q14: =P14/$P$23 -> 0.010335917 | R14: =Q14+R13 -> 0.30932386 | S14: =SUMIF(G:G,L14,E:E) -> 2570585 | T14: =S14/$S$23 -> 0.0075210617 | U14: =T14+U13 -> 0.60274118
A15: Kenai_Peninsula__AK | C15: Kenai Peninsula | E15: 61951 | F15: 0 | G15: 0 | K15: ffa296 | L15: 13 | M15: =COUNTIF(G:G,L15) -> 7 | N15: =M15/$M$23 -> 0.0022300096 | O15: =N15+O14 -> 0.96208984 | P15: =SUMIF(G:G,L15,F:F) -> 91 | Q15: =P15/$P$23 -> 0.0097975883 | R15: =Q15+R14 -> 0.31912145 | S15: =SUMIF(G:G,L15,E:E) -> 2767413 | T15: =S15/$S$23 -> 0.0080969445 | U15: =T15+U14 -> 0.61083812
A16: Ketchikan_Gateway__AK | C16: Ketchikan Gateway | E16: 13549 | F16: 0 | G16: 0 | K16: ff9b8f | L16: 14 | M16: =COUNTIF(G:G,L16) -> 7 | N16: =M16/$M$23 -> 0.0022300096 | O16: =N16+O15 -> 0.96431985 | P16: =SUMIF(G:G,L16,F:F) -> 98 | Q16: =P16/$P$23 -> 0.010551249 | R16: =Q16+R15 -> 0.3296727 | S16: =SUMIF(G:G,L16,E:E) -> 1938205 | T16: =S16/$S$23 -> 0.0056708335 | U16: =T16+U15 -> 0.61650896
A17: Kodiak_Island__AK | C17: Kodiak Island | E17: 12387 | F17: 0 | G17: 0 | K17: ff9486 | L17: 15 | M17: =COUNTIF(G:G,L17) -> 4 | N17: =M17/$M$23 -> 0.0012742912 | O17: =N17+O16 -> 0.96559414 | P17: =SUMIF(G:G,L17,F:F) -> 60 | Q17: =P17/$P$23 -> 0.0064599483 | R17: =Q17+R16 -> 0.33613264 | S17: =SUMIF(G:G,L17,E:E) -> 1187958 | T17: =S17/$S$23 -> 0.0034757479 | U17: =T17+U16 -> 0.6199847
A18: Lake_and_Peninsula__AK | C18: Lake and Peninsula | E18: 1357 | F18: 0 | G18: 0 | K18: ff7a6a | L18: 16-20 | M18: =COUNTIF(G:G,L18) -> 26 | N18: =M18/$M$23 -> 0.0082828926 | O18: =N18+O17 -> 0.97387703 | P18: =SUMIF(G:G,L18,F:F) -> 468 | Q18: =P18/$P$23 -> 0.050387597 | R18: =Q18+R17 -> 0.38652024 | S18: =SUMIF(G:G,L18,E:E) -> 16432978 | T18: =S18/$S$23 -> 0.048079889 | U18: =T18+U17 -> 0.66806459
A19: Matanuska_Susitna__AK | C19: Matanuska Susitna | E19: 118666 | F19: 0 | G19: 0 | K19: ff442d | L19: 21-30 | M19: =COUNTIF(G:G,L19) -> 28 | N19: =M19/$M$23 -> 0.0089200382 | O19: =N19+O18 -> 0.98279707 | P19: =SUMIF(G:G,L19,F:F) -> 687 | Q19: =P19/$P$23 -> 0.073966408 | R19: =Q19+R18 -> 0.46048665 | S19: =SUMIF(G:G,L19,E:E) -> 23283890 | T19: =S19/$S$23 -> 0.068124405 | U19: =T19+U18 -> 0.736189
A20: Nome__AK | C20: Nome | E20: 9830 | F20: 0 | G20: 0 | K20: ff0000 | L20: 31-50 | M20: =COUNTIF(G:G,L20) -> 18 | N20: =M20/$M$23 -> 0.0057343103 | O20: =N20+O19 -> 0.98853138 | P20: =SUMIF(G:G,L20,F:F) -> 723 | Q20: =P20/$P$23 -> 0.077842377 | R20: =Q20+R19 -> 0.53832903 | S20: =SUMIF(G:G,L20,E:E) -> 18324445 | T20: =S20/$S$23 -> 0.053613976 | U20: =T20+U19 -> 0.78980297
A21: North_Slope__AK | C21: North Slope | E21: 10582 | F21: 1 | G21: 1 | K21: ed0000 | L21: 51-100 | M21: =COUNTIF(G:G,L21) -> 21 | N21: =M21/$M$23 -> 0.0066900287 | O21: =N21+O20 -> 0.99522141 | P21: =SUMIF(G:G,L21,F:F) -> 1491 | Q21: =P21/$P$23 -> 0.16052972 | R21: =Q21+R20 -> 0.69885874 | S21: =SUMIF(G:G,L21,E:E) -> 25954217 | T21: =S21/$S$23 -> 0.075937294 | U21: =T21+U20 -> 0.86574027
A22: Northwest_Arctic__AK | C22: Northwest Arctic | E22: 7095 | F22: 0 | G22: 0 | K22: d20000 | L22: Over 100 | M22: =COUNTIF(G:G,L22) -> 15 | N22: =M22/$M$23 -> 0.0047785919 | O22: =N22+O21 -> 1 | P22: =SUMIF(G:G,L22,F:F) -> 2797 | Q22: =P22/$P$23 -> 0.30114126 | R22: =Q22+R21 -> 1 | S22: =SUMIF(G:G,L22,E:E) -> 45887944 | T22: =S22/$S$23 -> 0.13425973 | U22: =T22+U21 -> 1
A23: Petersburg__AK | C23: Petersburg | E23: 3394 | F23: 0 | G23: 0 | M23: =SUM(M2:M22) -> 3139 | P23: =SUM(P2:P22) -> 9288 | S23: =SUM(S2:S22) -> 341784857
A24: Prince_of_Wales_Hyder__AK | C24: Prince of Wales Hyder | E24: 5777 | F24: 0 | G24: 0
A25: SE_Fairbanks__AK | C25: SE Fairbanks | E25: 7270 | F25: 0 | G25: 0
A26: Sitka__AK | C26: Sitka | E26: 8319 | F26: 0 | G26: 0
A27: Skagway__AK | C27: Skagway | E27: 1104 | F27: 0 | G27: 0
A28: Kusilvak__AK | C28: Kusilvak | E28: 7932 | F28: 0 | G28: 0
A29: Wrangell__AK | C29: Wrangell | E29: 2007 | F29: 0 | G29: 0
A30: Yakutat__AK | C30: Yakutat | E30: 672 | F30: 0 | G30: 0
A31: Yukon_Koyukuk__AK | C31: Yukon Koyukuk | E31: 5028 | F31: 0 | G31: 0
A32: Autauga__AL | B32: ALABAMA | C32: Autauga | E32: 61920 | F32: 2 | G32: 2
A33: Baldwin__AL | C33: Baldwin | E33: 267761 | F33: 5 | G33: 5
A34: Barbour__AL | C34: Barbour | E34: 24607 | F34: 2 | G34: 2
A35: Bibb__AL | C35: Bibb | E35: 22262 | F35: 2 | G35: 2
A36: Blount__AL | C36: Blount | E36: 60156 | F36: 0 | G36: 0
A37: Bullock__AL | C37: Bullock | E37: 9780 | F37: 1 | G37: 1
A38: Butler__AL | C38: Butler | E38: 18100 | F38: 1 | G38: 1
A39: Calhoun__AL | C39: Calhoun | E39: 115834 | F39: 4 | G39: 4
A40: Chambers__AL | C40: Chambers | E40: 34253 | F40: 6 | G40: 6
A41: Cherokee__AL | C41: Cherokee | E41: 26413 | F41: 0 | G41: 0
A42: Chilton__AL | C42: Chilton | E42: 47708 | F42: 1 | G42: 1
A43: Choctaw__AL | C43: Choctaw | E43: 11904 | F43: 0 | G43: 0
A44: Clarke__AL | C44: Clarke | E44: 22014 | F44: 0 | G44: 0
... A67: Jackson__AL | C67: Jackson | E67: 54281 | F67: 0 | G67: 0
A68: Jefferson__AL | C68: Jefferson | E68: 665742 | F68: 91 | G68: 51-100
A69: Lamar__AL | C69: Lamar | E69: 13587 | F69: 0 | G69: 0
A70: Lauderdale__AL | C70: Lauderdale | E70: 97135 | F70: 1 | G70: 1
A71: Lawrence__AL | C71: Lawrence | E71: 33843 | F71: 0 | G71: 0
A72: Lee__AL | C72: Lee | E72: 189881 | F72: 9 | G72: 9
A73: Limestone__AL | C73: Limestone | E73: 122928 | F73: 1 | G73: 1
A74: Lowndes__AL | C74: Lowndes | E74: 9359 | F74: 0 | G74: 0
A75: Macon__AL | C75: Macon | E75: 18132 | F75: 4 | G75: 4
A76: Madison__AL | C76: Madison | E76: 433516 | F76: 21 | G76: 21-30
A77: Marengo__AL | C77: Marengo | E77: 18311 | F77: 1 | G77: 1
A78: Marion__AL | C78: Marion | E78: 29097 | F78: 0 | G78: 0
A79: Marshall__AL | C79: Marshall | E79: 103537 | F79: 1 | G79: 1
A80: Mobile__AL | C80: Mobile | E80: 411658 | F80: 29 | G80: 21-30
A81: Monroe__AL | C81: Monroe | E81: 18965 | F81: 0 | G81: 0
A82: Montgomery__AL | C82: Montgomery | E82: 225891 | F82: 43 | G82: 31-50
A83: Morgan__AL | C83: Morgan | E83: 126483 | F83: 5 | G83: 5
A84: Perry__AL | C84: Perry | E84: 7425 | F84: 2 | G84: 2
A85: Pickens__AL | C85: Pickens | E85: 18221 | F85: 1 | G85: 1
A86: Pike__AL | C86: Pike | E86: 33688 | F86: 3 | G86: 3
A87: Randolph__AL | C87: Randolph | E87: 23163 | F87: 1 | G87: 1
A88: Russell__AL | C88: Russell | E88: 58898 | F88: 6 | G88: 6
A89: Shelby__AL | C89: Shelby | E89: 238552 | F89: 1 | G89: 1
A90: St__Clair__AL | C90: St Clair | E90: 98206 | F90: 0 | G90: 0
A91: Sumter__AL | C91: Sumter | E91: 11588 | F91: 0 | G91: 0
A92: Talladega__AL | C92: Talladega | E92: 81603 | F92: 8 | G92: 8
A93: Tallapoosa__AL | C93: Tallapoosa | E93: 40953 | F93: 2 | G93: 2
A94: Tuscaloosa__AL | C94: Tuscaloosa | E94: 241368 | F94: 17 | G94: 16-20
A95: Walker__AL | C95: Walker | E95: 65140 | F95: 2 | G95: 2
A96: Washington__AL | C96: Washington | E96: 14822 | F96: 0 | G96: 0
A97: Wilcox__AL | C97: Wilcox | E97: 9666 | F97: 2 | G97: 2
A98: Winston__AL | C98: Winston | E98: 23829 | F98: 2 | G98: 2
A99: Arkansas__AR | B99: ARKANSAS | C99: Arkansas | E99: 15836 | F99: 1 | G99: 1
A100: Ashley__AR | C100: Ashley | E100: 17831 | F100: 0 | G100: 0
A101: Baxter__AR | C101: Baxter | E101: 42982 | F101: 0 | G101: 0
A102: Benton__AR | C102: Benton | E102: 332554 | F102: 2 | G102: 2
A103: Boone__AR | C103: Boone | E103: 38628 | F103: 0 | G103: 0
A104: Bradley__AR | C104: Bradley | E104: 9828 | F104: 0 | G104: 0
A105: Calhoun__AR | C105: Calhoun | E105: 4632 | F105: 1 | G105: 1
A106: Carroll__AR | C106: Carroll | E106: 29263 | F106: 1 | G106: 1
A107: Chicot__AR | C107: Chicot | E107: 9107 | F107: 0 | G107: 0
A108: Clark__AR | C108: Clark | E108: 20938 | F108: 0 | G108: 0
A109: Clay__AR | C109: Clay | E109: 14052 | F109: 0 | G109: 0
A110: Cleburne__AR | C110: Cleburne | E110: 25672 | F110: 2 | G110: 2
A111: Cleveland__AR | C111: Cleveland | E111: 7224 | F111: 0 | G111: 0
... A157: Prairie__AR | C157: Prairie | E157: 7923 | F157: 0 | G157: 0
A158: Pulaski__AR | C158: Pulaski | E158: 404611 | F158: 51 | G158: 51-100
A159: Randolph__AR | C159: Randolph | E159: 18876 | F159: 0 | G159: 0
A160: Saline__AR | C160: Saline | E160: 133288 | F160: 7 | G160: 7
A161: Scott__AR | C161: Scott | E161: 9965 | F161: 0 | G161: 0
A162: Searcy__AR | C162: Searcy | E162: 7848 | F162: 1 | G162: 1
A163: Sebastian__AR | C163: Sebastian | E163: 130641 | F163: 4 | G163: 4
A164: Sevier__AR | C164: Sevier | E164: 15758 | F164: 0 | G164: 0
A165: Sharp__AR | C165: Sharp | E165: 18122 | F165: 2 | G165: 2
A166: St__Francis__AR | C166: St Francis | E166: 21800 | F166: 3 | G166: 3
A167: Stone__AR | C167: Stone | E167: 12703 | F167: 0 | G167: 0
...

Sheet Ranks & Figures
A1: Rank | B1: Mapchart Id | C1: Annual Estimates of the Resident Population for Counties in the United States (as of July 1, 2025) | D1: Firearm Murder | I1: Count of counties | K1: Population | M1: Firearm Murders | AC1: Firearm Murders | AD1: Number of Counties
A2: 1 | B2: Los_Angeles__CA | C2: 9694934 | D2: 341 | E2: =D2/C2*1000 -> 0.035173009 | H2: Total | I2: =COUNT(A:A) -> 3139 | K2: =SUM(C:C) -> 3.4178486e+08 | M2: =SUM(D:D) -> 9288 | O2: =M2/K2*100000 -> 2.717499 | AC2: 0 | AD2: =COUNTIF('USA Counties'!G:G,'Ranks & Figures'!AC2) -> 1981 | AE2: =AD2/SUM(AD:AD) -> 0.6310927 | AF2: =AE2 -> 0.6310927 | AG2: =AF2*100 -> 63.10927
A3: 2 | B3: Harris__TX | C3: 5045026 | D3: 340 | E3: =D3/C3*1000 -> 0.067393112 | H3: The worst 1% of counties | I3: =I2*0.01 -> 31.39 | K3: =SUMIF(A:A,"<=31",C:C) -> 68277534 | L3: =K3/$K$2 -> 0.19976758 | M3: =SUMIF(A:A,"<=31",D:D) -> 4023 | N3: =M3/$M$2 -> 0.43313953 | O3: =(M2-M3)/(K2-K3)*100000 -> 1.9249942 | AC3: 1 | AD3: =COUNTIF('USA Counties'!G:G,'Ranks & Figures'!AC3) -> 453 | AE3: =AD3/SUM(AD:AD) -> 0.14431348 | AF3: =AF2+AE3 -> 0.77540618 | AG3: =AF3*100 -> 77.540618
A4: 3 | B4: Cook__IL | C4: 5194625 | D4: 307 | E4: =D4/C4*1000 -> 0.05909955 | H4: The worst 2% of counties | I4: =I2*0.02 -> 62.78 | K4: =SUMIF(A:A,"<=63",C:C) -> 98516727 | L4: =K4/$K$2 -> 0.28824193 | M4: =SUMIF(A:A,"<=63",D:D) -> 5261 | N4: =M4/$M$2 -> 0.5664298 | O4: =(M2-M4)/(K2-K4)*100000 -> 1.6553751 | AC4: 2 | AD4: =COUNTIF('USA Counties'!G:G,'Ranks & Figures'!AC4) -> 220 | AE4: =AD4/SUM(AD:AD) -> 0.070086015 | AF4: =AF3+AE4 -> 0.84549219 | AG4: =AF4*100 -> 84.549219
A5: 4 | B5: Shelby__TN | C5: 910226 | D5: 208 | E5: =D5/C5*1000 -> 0.22851468 | H5: The worst 5% of counties | I5: =I2*0.05 -> 156.95 | K5: =SUMIF(A:A,"<=157",C:C) -> 1.5161389e+08 | L5: =K5/$K$2 -> 0.44359453 | M5: =SUMIF(A:A,"<=157",D:D) -> 6764 | N5: =M5/$M$2 -> 0.72825151 | O5: =(M2-M5)/(K2-K5)*100000 -> 1.3272268 | AC5: 3 | AD5: =COUNTIF('USA Counties'!G:G,'Ranks & Figures'!AC5) -> 110 | AE5: =AD5/SUM(AD:AD) -> 0.035043007 | AF5: =AF4+AE5 -> 0.8805352 | AG5: =AF5*100 -> 88.05352
A6: 5 | B6: Philadelphia__PA | C6: 1574281 | D6: 199 | E6: =D6/C6*1000 -> 0.12640691 | AC6: 4 | AD6: =COUNTIF('USA Counties'!G:G,'Ranks & Figures'!AC6) -> 62 | AE6: =AD6/SUM(AD:AD) -> 0.019751513 | AF6: =AF5+AE6 -> 0.90028672 | AG6: =AF6*100 -> 90.028672
A7: 6 | B7: Dallas__TX | C7: 2661397 | D7: 182 | E7: =D7/C7*1000 -> 0.068385138 | AC7: 5 | AD7: =COUNTIF('USA Counties'!G:G,'Ranks & Figures'!AC7) -> 47 | AE7: =AD7/SUM(AD:AD) -> 0.014972921 | AF7: =AF6+AE7 -> 0.91525964 | AG7: =AF7*100 -> 91.525964
A8: 7 | B8: Maricopa__AZ | C8: 4689558 | D8: 171 | E8: =D8/C8*1000 -> 0.036463991 | AC8: 6 | AD8: =COUNTIF('USA Counties'!G:G,'Ranks & Figures'!AC8) -> 37 | AE8: =AD8/SUM(AD:AD) -> 0.011787193 | AF8: =AF7+AE8 -> 0.92704683 | AG8: =AF8*100 -> 92.704683
A9: 8 | B9: Wayne__MI | C9: 1769038 | D9: 159 | E9: =D9/C9*1000 -> 0.089879358 | AC9: 7 | AD9: =COUNTIF('USA Counties'!G:G,'Ranks & Figures'!AC9) -> 25 | AE9: =AD9/SUM(AD:AD) -> 0.0079643198 | AF9: =AF8+AE9 -> 0.93501115 | AG9: =AF9*100 -> 93.501115
A10: 9 | B10: New_York_City__NY | C10: 8584629 | D10: 146 | E10: =D10/C10*1000 -> 0.017007141 | AC10: 8 | AD10: =COUNTIF('USA Counties'!G:G,'Ranks & Figures'!AC10) -> 18 | AE10: =AD10/SUM(AD:AD) -> 0.0057343103 | AF10: =AF9+AE10 -> 0.94074546 | AG10: =AF10*100 -> 94.074546
A11: 10 | B11: Milwaukee__WI | C11: 924216 | D11: 139 | E11: =D11/C11*1000 -> 0.15039774 | I11: Percent of Counties | M11: Percent of Firearm Murders-2025 | R11: Percent of Counties | U11: Percent of Firearm Murders | AC11: 9 | AD11: =COUNTIF('USA Counties'!G:G,'Ranks & Figures'!AC11) -> 13 | AE11: =AD11/SUM(AD:AD) -> 0.0041414463 | AF11: =AF10+AE11 -> 0.94488691 | AG11: =AF11*100 -> 94.488691
A12: 11 | B12: Fulton__GA | C12: 1098791 | D12: 132 | E12: =D12/C12*1000 -> 0.12013204 | H12: Safest 70% of Counties | I12: 0.5 | J12: =50%*COUNT(A:A)+J13 -> 3139 | K12: =SUMIF(A:A,"<=3139",D:D) -> 9288 | L12: =K12-K13 -> 0 | M12: =L12/SUM(D:D) -> 0 | R12: Worst 5% | S12: =5%*COUNT(A:A) -> 156.95 | T12: =SUMIF(A:A,"<=157",D:D) -> 6764 | U12: =T12/SUM(D:D) -> 0.72825151 | V12: =SUMIF(A:A,"<=157",C:C) -> 1.5161389e+08 | W12: =V12/SUM(C:C) -> 0.44359453 | AC12: 10 | AD12: =COUNTIF('USA Counties'!G:G,'Ranks & Figures'!AC12) -> 16 | AE12: =AD12/SUM(AD:AD) -> 0.0050971647 | AF12: =AF11+AE12 -> 0.94998407 | AG12: =AF12*100 -> 94.998407
A13: 12 | B13: Baltimore_City__MD | C13: 569997 | D13: 122 | E13: =D13/C13*1000 -> 0.21403621 | I13: Next 10% | J13: =10%*COUNT(A:A)+J14 -> 1569.5 | K13: =SUMIF(A:A,"<=1570",D:D) -> 9288 | L13: =K13-K14 -> 0 | M13: =L13/SUM(D:D) -> 0 | R13: Worst 4% | S13: =4%*COUNT(A:A) -> 125.56 | T13: =SUMIF(A:A,"<=126",D:D) -> 6415 | U13: =T13/SUM(D:D) -> 0.69067614 | V13: =SUMIF(A:A,"<=126",C:C) -> 1.3577705e+08 | W13: =V13/SUM(C:C) -> 0.39725882 | AC13: 11 | AD13: =COUNTIF('USA Counties'!G:G,'Ranks & Figures'!AC13) -> 23 | AE13: =AD13/SUM(AD:AD) -> 0.0073271743 | AF13: =AF12+AE13 -> 0.95731125 | AG13: =AF13*100 -> 95.731125
A14: 13 | B14: Jackson__MO | C14: 732994 | D14: 120 | E14: =D14/C14*1000 -> 0.16371212 | I14: Next 10% | J14: =10%*COUNT(A:A)+J15 -> 1255.6 | K14: =SUMIF(A:A,"<=1256",D:D) -> 9288 | L14: =K14-K15 -> 216 | M14: =L14/SUM(D:D) -> 0.023255814 | R14: Worst 3% | S14: =3%*COUNT(A:A) -> 94.17 | T14: =SUMIF(A:A,"<=94",D:D) -> 5929 | U14: =T14/SUM(D:D) -> 0.63835056 | V14: =SUMIF(A:A,"<=94",C:C) -> 121316943 | W14: =V14/SUM(C:C) -> 0.35495119 | AC14: 12 | AD14: =COUNTIF('USA Counties'!G:G,'Ranks & Figures'!AC14) -> 8 | AE14: =AD14/SUM(AD:AD) -> 0.0025485824 | AF14: =AF13+AE14 -> 0.95985983 | AG14: =AF14*100 -> 95.985983
A15: 14 | B15: St__Louis__MO | C15: 278144 | D15: 120 | E15: =D15/C15*1000 -> 0.4314312 | H15: Next 25% of Counties | I15: Next 10% | J15: =10%*COUNT(A:A)+J16 -> 941.7 | K15: =SUMIF(A:A,"<=942",D:D) -> 9072 | L15: =K15-K16 -> 391 | M15: =L15/SUM(D:D) -> 0.04209733 | R15: Worst 2% | S15: =2%*COUNT(A:A) -> 62.78 | T15: =SUMIF(A:A,"<=63",D:D) -> 5261 | U15: =T15/SUM(D:D) -> 0.5664298 | V15: =SUMIF(A:A,"<=63",C:C) -> 98516727 | W15: =V15/SUM(C:C) -> 0.28824193 | AC15: 13 | AD15: =COUNTIF('USA Counties'!G:G,'Ranks & Figures'!AC15) -> 7 | AE15: =AD15/SUM(AD:AD) -> 0.0022300096 | AF15: =AF14+AE15 -> 0.96208984 | AG15: =AF15*100 -> 96.208984
A16: 15 | B16: Bexar__TX | C16: 2160088 | D16: 111 | E16: =D16/C16*1000 -> 0.051386795 | I16: Next 10% | J16: =10%*COUNT(A:A)+J17 -> 627.8 | K16: =SUMIF(A:A,"<=628",D:D) -> 8681 | L16: =K16-K17 -> 860 | M16: =L16/SUM(D:D) -> 0.092592593 | R16: Worst 1% | S16: =1%*COUNT(A:A) -> 31.39 | T16: =SUMIF(A:A,"<=31",D:D) -> 4023 | U16: =T16/SUM(D:D) -> 0.43313953 | V16: =SUMIF(A:A,"<=31",C:C) -> 68277534 | W16: =V16/SUM(C:C) -> 0.19976758 | AC16: 14 | AD16: =COUNTIF('USA Counties'!G:G,'Ranks & Figures'!AC16) -> 7 | AE16: =AD16/SUM(AD:AD) -> 0.0022300096 | AF16: =AF15+AE16 -> 0.96431985 | AG16: =AF16*100 -> 96.431985
A17: 16 | B17: Cuyahoga__OH | C17: 1232925 | D17: 98 | E17: =D17/C17*1000 -> 0.079485776 | I17: Next 5% | J17: =5%*COUNT(A:A)+J18 -> 313.9 | K17: =SUMIF(A:A,"<=314",D:D) -> 7821 | L17: =K17-K18 -> 1057 | M17: =L17/SUM(D:D) -> 0.11380276 | AC17: 15 | AD17: =COUNTIF('USA Counties'!G:G,'Ranks & Figures'!AC17) -> 4 | AE17: =AD17/SUM(AD:AD) -> 0.0012742912 | AF17: =AF16+AE17 -> 0.96559414 | AG17: =AF17*100 -> 96.559414
A18: 17 | B18: Marion__IN | C18: 992196 | D18: 97 | E18: =D18/C18*1000 -> 0.097762942 | H18: Most Dangerous Counties | I18: Last 5% | J18: =5%*COUNT(A:A) -> 156.95 | K18: =SUMIF(A:A,"<=157",D:D) -> 6764 | L18: =K18-K19 -> 6764 | M18: =L18/SUM(D:D) -> 0.72825151 | AC18: 16-20 | AD18: =COUNTIF('USA Counties'!G:G,'Ranks & Figures'!AC18) -> 26 | AE18: =AD18/SUM(AD:AD) -> 0.0082828926 | AF18: =AF17+AE18 -> 0.97387703 | AG18: =AF18*100 -> 97.387703
A19: 18 | B19: Washington__DC | C19: 693645 | D19: 94 | E19: =D19/C19*1000 -> 0.13551601 | AC19: 21-30 | AD19: =COUNTIF('USA Counties'!G:G,'Ranks & Figures'!AC19) -> 28 | AE19: =AD19/SUM(AD:AD) -> 0.0089200382 | AF19: =AF18+AE19 -> 0.98279707 | AG19: =AF19*100 -> 98.279707
A20: 19 | B20: Jefferson__AL | C20: 665742 | D20: 91 | E20: =D20/C20*1000 -> 0.13668959 | AC20: 31-50 | AD20: =COUNTIF('USA Counties'!G:G,'Ranks & Figures'!AC20) -> 18 | AE20: =AD20/SUM(AD:AD) -> 0.0057343103 | AF20: =AF19+AE20 -> 0.98853138 | AG20: =AF20*100 -> 98.853138
A21: 20 | B21: Mecklenburg__NC | C21: 1233383 | D21: 87 | E21: =D21/C21*1000 -> 0.0705377 | AC21: 51-100 | AD21: =COUNTIF('USA Counties'!G:G,'Ranks & Figures'!AC21) -> 21 | AE21: =AD21/SUM(AD:AD) -> 0.0066900287 | AF21: =AF20+AE21 -> 0.99522141 | AG21: =AF21*100 -> 99.522141
A22: 21 | B22: Clark__NV | C22: 2407226 | D22: 85 | E22: =D22/C22*1000 -> 0.035310353 | AC22: Over 100 | AD22: =COUNTIF('USA Counties'!G:G,'Ranks & Figures'!AC22) -> 15 | AE22: =AD22/SUM(AD:AD) -> 0.0047785919 | AF22: =AF21+AE22 -> 1 | AG22: =AF22*100 -> 100
A23: 22 | B23: Tarrant__TX | C23: 2248466 | D23: 78 | E23: =D23/C23*1000 -> 0.034690318
A24: 23 | B24: DeKalb__GA | C24: 774394 | D24: 76 | E24: =D24/C24*1000 -> 0.098141256
A25: 24 | B25: Miami_Dade__FL | C25: 2802029 | D25: 75 | E25: =D25/C25*1000 -> 0.026766318
A26: 25 | B26: Alameda__CA | C26: 1636630 | D26: 71 | E26: =D26/C26*1000 -> 0.043381827
A27: 26 | B27: Duval__FL | C27: 1062963 | D27: 71 | E27: =D27/C27*1000 -> 0.066794423
A28: 27 | B28: Hamilton__OH | C28: 838418 | D28: 64 | E28: =D28/C28*1000 -> 0.076334239
A29: 28 | B29: San_Bernardino__CA | C29: 2224091 | D29: 61 | E29: =D29/C29*1000 -> 0.027426935
A30: 29 | B30: Franklin__OH | C30: 1361536 | D30: 61 | E30: =D30/C30*1000 -> 0.044802341
A31: 30 | B31: Allegheny__PA | C31: 1225035 | D31: 61 | E31: =D31/C31*1000 -> 0.049794496
A32: 31 | B32: St__Louis_Co___MO | C32: 990911 | D32: 56 | E32: =D32/C32*1000 -> 0.056513653
A33: 32 | B33: Hennepin__MN | C33: 1284784 | D33: 55 | E33: =D33/C33*1000 -> 0.042808752
A34: 33 | B34: Prince_George_s__MD | C34: 970374 | D34: 53 | E34: =D34/C34*1000 -> 0.054618116
... A3140: 3139 | B3140: Weston__WY | C3140: 6840 | D3140: 0 | E3140: =D3140/C3140*1000 -> 0
