Workbook

Sheet Tables
B2: Crime Prevention Research Center
B3: Year | C3: FBI active shooter incidents | D3: FBI active shooter incidents stopped by an armed citizen | E3: Cases where armed citizens have stopped likely mass public shootings-CPRC | H3: Cases where armed citizens have stopped active shooter incidents-CPRC | K3: Corrected Active shooter incidents stopped by an armed citizen | L3: Corrected Active shooter incidents | M3: Corrected Percent stopped
E4: All | F4: missed by FBI | G4: misclassified by FBI | H4: Suspect fired first | I4: Suspect with gun, victim shot 1st | J4: Suspect with gun, but didn't shoot
B5: 2014 | C5: 20 | D5: 1 | E5: =D5+F5+G5 -> 3 | F5: 2 | G5: 0 | H5: 1 | I5: 0 | J5: 0 | K5: =E5+H5+I5 -> 4 | L5: =C5+F5+H5+I5 -> 23 | M5: =K5/L5 -> 0.17391304
B6: 2015 | C6: 20 | D6: 1 | E6: =D6+F6+G6 -> 5 | F6: 4 | G6: 0 | H6: 0 | I6: 1 | J6: 0 | K6: =E6+H6+I6 -> 6 | L6: =C6+F6+H6+I6 -> 25 | M6: =K6/L6 -> 0.24
B7: 2016 | C7: 20 | D7: 1 | E7: =D7+F7+G7 -> 2 | F7: 1 | G7: 0 | H7: 4 | I7: 0 | J7: 1 | K7: =E7+H7+I7 -> 6 | L7: =C7+F7+H7+I7 -> 25 | M7: =K7/L7 -> 0.24
B8: 2017 | C8: 31 | D8: 3 | E8: =D8+F8+G8 -> 6 | F8: 2 | G8: 1 | H8: 2 | I8: 1 | J8: 1 | K8: =E8+H8+I8 -> 9 | L8: =C8+F8+H8+I8 -> 36 | M8: =K8/L8 -> 0.25
B9: 2018 | C9: 30 | D9: 1 | E9: =D9+F9+G9 -> 5 | F9: 3 | G9: 1 | H9: 3 | I9: 1 | J9: 2 | K9: =E9+H9+I9 -> 9 | L9: =C9+F9+H9+I9 -> 37 | M9: =K9/L9 -> 0.24324324
B10: 2019 | C10: 30 | D10: 0 | E10: =D10+F10+G10 -> 4 | F10: 3 | G10: 1 | H10: 8 | I10: 0 | J10: 3 | K10: =E10+H10+I10 -> 12 | L10: =C10+F10+H10+I10 -> 41 | M10: =K10/L10 -> 0.29268293
B11: 2020 | C11: 40 | D11: 0 | E11: =D11+F11+G11 -> 7 | F11: 5 | G11: 2 | H11: 15 | I11: 1 | J11: 3 | K11: =E11+H11+I11 -> 23 | L11: =C11+F11+H11+I11 -> 61 | M11: =K11/L11 -> 0.37704918
B12: 2021 | C12: 61 | D12: 4 | E12: =D12+F12+G12 -> 9 | F12: 5 | G12: 0 | H12: 44 | I12: 2 | J12: 14 | K12: =E12+H12+I12 -> 55 | L12: =C12+F12+H12+I12 -> 112 | M12: =K12/L12 -> 0.49107143
B13: 2022 | C13: 50 | D13: 3 | E13: =D13+F13+G13 -> 13 | F13: 10 | G13: 0 | H13: 20 | I13: 0 | J13: 3 | K13: =E13+H13+I13 -> 33 | L13: =C13+F13+H13+I13 -> 80 | M13: =K13/L13 -> 0.4125
B14: 2023 | C14: 48 | D14: 0 | E14: =D14+F14+G14 -> 4 | F14: 4 | G14: 0 | H14: 18 | I14: 1 | J14: 1 | K14: =E14+H14+I14 -> 23 | L14: =C14+F14+H14+I14+4 -> 75 | M14: =K14/L14 -> 0.30666667
B15: 2024 | C15: 24 | D15: 0 | E15: =D15+F15+G15 -> 3 | F15: 3 | G15: 0 | H15: 18 | I15: 1 | J15: 3 | K15: =E15+H15+I15 -> 22 | L15: =C15+F15+H15+I15 -> 46 | M15: =K15/L15 -> 0.47826087
B16: 2025 | C16: 34 | D16: 2 | E16: =D16+F16+G16 -> 12 | F16: 9 | G16: 1 | H16: 10 | I16: 1 | J16: 4 | K16: =E16+H16+I16 -> 23 | L16: =C16+F16+H16+I16 -> 54 | M16: =K16/L16 -> 0.42592593
B17: Total | C17: =SUM(C5:C16) -> 408 | D17: =SUM(D5:D16) -> 16 | E17: =SUM(E5:E16) -> 73 | F17: =SUM(F5:F16) -> 51 | G17: =SUM(G5:G16) -> 6 | H17: =SUM(H5:H16) -> 143 | I17: =SUM(I5:I16) -> 9 | J17: =SUM(J5:J16) -> 35 | ... L17: =SUM(L5:L16) -> 615 | M17: =K17/L17 -> 0.36585366
C21: Evidence of the difficulty in finding past cases
E22: Correct Percent Stopped | F22: FBI Percent Stopped
C23: 2014 | D23: all years | E23: =G23/H23 -> 0.36585366 | F23: =I23/J23 -> 0.039215686 | G23: =SUM(K5:K16) -> 225 | H23: =SUM(L5:L16) -> 615 | I23: =SUM(D5:D16) -> 16 | J23: =SUM(C5:C16) -> 408
C24: 2015 | D24: last eleven years | E24: =G24/H24 -> 0.37331081 | F24: =I24/J24 -> 0.038659794 | G24: =SUM(K6:K16) -> 221 | H24: =SUM(L6:L16) -> 592 | I24: =SUM(D6:D16) -> 15 | J24: =SUM(C6:C16) -> 388
C25: 2016 | D25: last ten years | E25: =G25/H25 -> 0.37918871 | F25: =I25/J25 -> 0.038043478 | G25: =SUM(K7:K16) -> 215 | H25: =SUM(L7:L16) -> 567 | I25: =SUM(D7:D16) -> 14 | J25: =SUM(C7:C16) -> 368
C26: 2017 | D26: last nine years | E26: =G26/H26 -> 0.38560886 | F26: =I26/J26 -> 0.037356322 | G26: =SUM(K8:K16) -> 209 | H26: =SUM(L8:L16) -> 542 | I26: =SUM(D8:D16) -> 13 | J26: =SUM(C8:C16) -> 348
C27: 2018 | D27: last eight years | E27: =G27/H27 -> 0.39525692 | F27: =I27/J27 -> 0.031545741 | G27: =SUM(K9:K16) -> 200 | H27: =SUM(L9:L16) -> 506 | I27: =SUM(D9:D16) -> 10 | J27: =SUM(C9:C16) -> 317
C28: 2019 | D28: last seven years | E28: =G28/H28 -> 0.40724947 | F28: =I28/J28 -> 0.031358885 | G28: =SUM(K10:K16) -> 191 | H28: =SUM(L10:L16) -> 469 | I28: =SUM(D10:D16) -> 9 | J28: =SUM(C10:C16) -> 287
C29: 2020 | D29: last six years | E29: =G29/H29 -> 0.4182243 | F29: =I29/J29 -> 0.035019455 | G29: =SUM(K11:K16) -> 179 | H29: =SUM(L11:L16) -> 428 | I29: =SUM(D11:D16) -> 9 | J29: =SUM(C11:C16) -> 257
C30: 2021 | D30: last five years | E30: =G30/H30 -> 0.42506812 | F30: =I30/J30 -> 0.041474654 | G30: =SUM(K12:K16) -> 156 | H30: =SUM(L12:L16) -> 367 | I30: =SUM(D12:D16) -> 9 | J30: =SUM(C12:C16) -> 217
C31: 2022 | D31: last four years | E31: =G31/H31 -> 0.39607843 | F31: =I31/J31 -> 0.032051282 | G31: =SUM(K13:K16) -> 101 | H31: =SUM(L13:L16) -> 255 | I31: =SUM(D13:D16) -> 5 | J31: =SUM(C13:C16) -> 156
C32: 2023 | D32: last three years | E32: =G32/H32 -> 0.38857143 | F32: =I32/J32 -> 0.018867925 | G32: =SUM(K14:K16) -> 68 | H32: =SUM(L14:L16) -> 175 | I32: =SUM(D14:D16) -> 2 | J32: =SUM(C14:C16) -> 106
C33: 2024 | D33: last two years | E33: =G33/H33 -> 0.45 | F33: =I33/J33 -> 0.034482759 | G33: =SUM(K15:K16) -> 45 | H33: =SUM(L15:L16) -> 100 | I33: =SUM(D15:D16) -> 2 | J33: =SUM(C15:C16) -> 58
C34: 2025 | D34: last year | E34: =G34/H34 -> 0.42592593 | F34: =I34/J34 -> 0.058823529 | G34: =K16 -> 23 | H34: =L16 -> 54 | I34: =D16 -> 2 | J34: =C16 -> 34
C36: Did armed Citizens stop attacks in places where guns were allowed? (Cases where we could determine if guns were allowed)
E37: Number of active shooter incidents in places that allowed people to legally carry and stopped by an armed citizen | F37: Number of active shooter incidents in places that allowed people to legally carry | G37: Percent stopped in places that allowed people to legally carry
C38: 2014 | D38: all years | E38: =Summary!V17 -> 199 | F38: =Summary!W17 -> 376 | G38: =E38/F38 -> 0.52925532
C39: 2015 | D39: last eleven years | E39: =Summary!V18 -> 196 | F39: =Summary!W18 -> 370 | G39: =E39/F39 -> 0.52972973
C40: 2016 | D40: last ten years | E40: =Summary!V19 -> 190 | F40: =Summary!W19 -> 359 | G40: =E40/F40 -> 0.52924791
C41: 2017 | D41: last nine years | E41: =Summary!V20 -> 186 | F41: =Summary!W20 -> 345 | G41: =E41/F41 -> 0.53913043
C42: 2018 | D42: last eight years | E42: =Summary!V21 -> 178 | F42: =Summary!W21 -> 327 | G42: =E42/F42 -> 0.54434251
C43: 2019 | D43: last seven years | E43: =Summary!V22 -> 171 | F43: =Summary!W22 -> 313 | G43: =E43/F43 -> 0.54632588
C44: 2020 | D44: last six years | E44: =Summary!V23 -> 161 | F44: =Summary!W23 -> 295 | G44: =E44/F44 -> 0.54576271
C45: 2021 | D45: last five years | E45: =Summary!V24 -> 142 | F45: =Summary!W24 -> 252 | G45: =E45/F45 -> 0.56349206
...

Sheet Summary
A1: Year | B1: FBI active shooter incidents | C1: FBI active shooter incidents stopped by an armed citizen | D1: Cases where armed citizens have stopped likely mass public shootings-CPRC | G1: Cases where armed citizens have stopped active shooter incidents-CPRC | J1: Corrected Active shooter incidents stopped by an armed citizen | K1: Corrected Active shooter incidents | L1: active shooter incidents stopped by an armed citizen | M1: active shooter incidents | N1: Corrected Percent stopped | O1: FBI Percent stopped | P1: Showing that more recent years were easier to obtain | U1: Evidence of the difficulty in finding past cases
D2: All | E2: missed by FBI | F2: misclassified by FBI | G2: Suspect fired first | H2: Suspect with gun, victim shot 1st | I2: Suspect with gun, but didn't shoot | P2: Corrected Percent Stopped | Q2: FBI Percent Stopped | U2: Year | V2: The number of cases stopped by armed citizen(s) | W2: The number of places where people were allowed to carry | Y2: Corrected Percent stopped | Z2: FBI Percent stopped | AA2: Percent stopped in places that allowed people to legally carry
A3: 2014 | B3: 20 | C3: 1 | D3: =C3+E3+F3 -> 3 | E3: 2 | F3: 0 | G3: 1 | H3: 0 | I3: 0 | J3: =D3+G3+H3 -> 4 | K3: =B3+E3+G3+H3 -> 23 | L3: 1 | M3: 20 | N3: =J3/K3 -> 0.17391304 | O3: =C3/B3 -> 0.05 | P3: =Y3 -> 0.36585366 | Q3: =Z3 -> 0.039215686 | U3: 2014 | V3: 3 | W3: 6 | X3: All years | Y3: =SUM(J3:J14)/SUM(K3:K14) -> 0.36585366 | Z3: =SUM(C3:C14)/SUM(B3:B14) -> 0.039215686 | AA3: =SUM(V3:V14)/SUM(W3:W14) -> 0.52925532
A4: 2015 | B4: 20 | C4: 1 | D4: =C4+E4+F4 -> 5 | E4: 4 | F4: 0 | G4: 0 | H4: 1 | I4: 0 | J4: =D4+G4+H4 -> 6 | K4: =B4+E4+G4+H4 -> 25 | L4: 1 | M4: 20 | N4: =J4/K4 -> 0.24 | O4: =C4/B4 -> 0.05 | P4: =Y4 -> 0.37331081 | Q4: =Z4 -> 0.038659794 | U4: 2015 | V4: 6 | W4: 11 | X4: last eleven years | Y4: =SUM(J4:J14)/SUM(K4:K14) -> 0.37331081 | Z4: =SUM(C4:C14)/SUM(B4:B14) -> 0.038659794 | AA4: =SUM(V4:V14)/SUM(W4:W14) -> 0.52972973
A5: 2016 | B5: 20 | C5: 1 | D5: =C5+E5+F5 -> 2 | E5: 1 | F5: 0 | G5: 4 | H5: 0 | I5: 1 | J5: =D5+G5+H5 -> 6 | K5: =B5+E5+G5+H5 -> 25 | L5: 1 | M5: 20 | N5: =J5/K5 -> 0.24 | O5: =C5/B5 -> 0.05 | P5: =Y5 -> 0.37918871 | Q5: =Z5 -> 0.038043478 | U5: 2016 | V5: 4 | W5: 14 | X5: last ten years | Y5: =SUM(J5:J14)/SUM(K5:K14) -> 0.37918871 | Z5: =SUM(C5:C14)/SUM(B5:B14) -> 0.038043478 | AA5: =SUM(V5:V14)/SUM(W5:W14) -> 0.52924791
A6: 2017 | B6: 31 | C6: 3 | D6: =C6+E6+F6 -> 6 | E6: 2 | F6: 1 | G6: 2 | H6: 1 | I6: 1 | J6: =D6+G6+H6 -> 9 | K6: =B6+E6+G6+H6 -> 36 | L6: 3 | M6: 31 | N6: =J6/K6 -> 0.25 | O6: =C6/B6 -> 0.096774194 | P6: =Y6 -> 0.38560886 | Q6: =Z6 -> 0.037356322 | U6: 2017 | V6: 8 | W6: 18 | X6: last nine years | Y6: =SUM(J6:J14)/SUM(K6:K14) -> 0.38560886 | Z6: =SUM(C6:C14)/SUM(B6:B14) -> 0.037356322 | AA6: =SUM(V6:V14)/SUM(W6:W14) -> 0.53913043
A7: 2018 | B7: 30 | C7: 1 | D7: =C7+E7+F7 -> 5 | E7: 3 | F7: 1 | G7: 3 | H7: 1 | I7: 2 | J7: =D7+G7+H7 -> 9 | K7: =B7+E7+G7+H7 -> 37 | L7: 1 | M7: 30 | N7: =J7/K7 -> 0.24324324 | O7: =C7/B7 -> 0.033333333 | P7: =Y7 -> 0.39525692 | Q7: =Z7 -> 0.031545741 | U7: 2018 | V7: 7 | W7: 14 | X7: last eight years | Y7: =SUM(J7:J14)/SUM(K7:K14) -> 0.39525692 | Z7: =SUM(C7:C14)/SUM(B7:B14) -> 0.031545741 | AA7: =SUM(V7:V14)/SUM(W7:W14) -> 0.54434251
A8: 2019 | B8: 30 | C8: 0 | D8: =C8+E8+F8 -> 4 | E8: 3 | F8: 1 | G8: 8 | H8: 0 | I8: 3 | J8: =D8+G8+H8 -> 12 | K8: =B8+E8+G8+H8 -> 41 | L8: 0 | M8: 30 | N8: =J8/K8 -> 0.29268293 | O8: =C8/B8 -> 0 | P8: =Y8 -> 0.40724947 | Q8: =Z8 -> 0.031358885 | U8: 2019 | V8: 10 | W8: 18 | X8: last seven years | Y8: =SUM(J8:J14)/SUM(K8:K14) -> 0.40724947 | Z8: =SUM(C8:C14)/SUM(B8:B14) -> 0.031358885 | AA8: =SUM(V8:V14)/SUM(W8:W14) -> 0.54632588
A9: 2020 | B9: 40 | C9: 0 | D9: =C9+E9+F9 -> 7 | E9: 5 | F9: 2 | G9: 15 | H9: 1 | I9: 3 | J9: =D9+G9+H9 -> 23 | K9: =B9+E9+G9+H9 -> 61 | L9: 0 | M9: 40 | N9: =J9/K9 -> 0.37704918 | O9: =C9/B9 -> 0 | P9: =Y9 -> 0.4182243 | Q9: =Z9 -> 0.035019455 | U9: 2020 | V9: 19 | W9: 43 | X9: last six years | Y9: =SUM(J9:J14)/SUM(K9:K14) -> 0.4182243 | Z9: =SUM(C9:C14)/SUM(B9:B14) -> 0.035019455 | AA9: =SUM(V9:V14)/SUM(W9:W14) -> 0.54576271
A10: 2021 | B10: 61 | C10: 4 | D10: =C10+E10+F10 -> 9 | E10: 5 | F10: 0 | G10: 44 | H10: 2 | I10: 14 | J10: =D10+G10+H10 -> 55 | K10: =B10+E10+G10+H10 -> 112 | L10: 4 | M10: 61 | N10: =J10/K10 -> 0.49107143 | O10: =C10/B10 -> 0.06557377 | P10: =Y10 -> 0.42506812 | Q10: =Z10 -> 0.041474654 | U10: 2021 | V10: 47 | W10: 81 | X10: last five years | Y10: =SUM(J10:J14)/SUM(K10:K14) -> 0.42506812 | Z10: =SUM(C10:C14)/SUM(B10:B14) -> 0.041474654 | AA10: =SUM(V10:V14)/SUM(W10:W14) -> 0.56349206
A11: 2022 | B11: 50 | C11: 3 | D11: =C11+E11+F11 -> 13 | E11: 10 | F11: 0 | G11: 20 | H11: 0 | I11: 3 | J11: =D11+G11+H11 -> 33 | K11: =B11+E11+G11+H11 -> 80 | L11: 3 | M11: 50 | N11: =J11/K11 -> 0.4125 | O11: =C11/B11 -> 0.06 | P11: =Y11 -> 0.39607843 | Q11: =Z11 -> 0.032051282 | U11: 2022 | V11: 33 | W11: 52 | X11: last four years | Y11: =SUM(J11:J14)/SUM(K11:K14) -> 0.39607843 | Z11: =SUM(C11:C14)/SUM(B11:B14) -> 0.032051282 | AA11: =SUM(V11:V14)/SUM(W11:W14) -> 0.55555556
A12: 2023 | B12: 48 | C12: 0 | D12: =C12+E12+F12 -> 4 | E12: 4 | F12: 0 | G12: 18 | H12: 1 | I12: 1 | J12: =D12+G12+H12 -> 23 | K12: =B12+E12+G12+H12+4 -> 75 | L12: 0 | M12: 48 | N12: =J12/K12 -> 0.30666667 | O12: =C12/B12 -> 0 | P12: =Y12 -> 0.38857143 | Q12: =Z12 -> 0.018867925 | U12: 2023 | V12: 21 | W12: 51 | X12: last three years | Y12: =SUM(J12:J14)/SUM(K12:K14) -> 0.38857143 | Z12: =SUM(C12:C14)/SUM(B12:B14) -> 0.018867925 | AA12: =SUM(V12:V14)/SUM(W12:W14) -> 0.5210084
A13: 2024 | B13: 24 | C13: 0 | D13: =C13+E13+F13 -> 3 | E13: 3 | F13: 0 | G13: 18 | H13: 1 | I13: 3 | J13: =D13+G13+H13 -> 22 | K13: =B13+E13+G13+H13 -> 46 | L13: 0 | M13: 24 | N13: =J13/K13 -> 0.47826087 | O13: =C13/B13 -> 0 | P13: =Y13 -> 0.45 | Q13: =Z13 -> 0.034482759 | U13: 2024 | V13: 20 | W13: 32 | X13: last two years | Y13: =SUM(J13:J14)/SUM(K13:K14) -> 0.45 | Z13: =SUM(C13:C14)/SUM(B13:B14) -> 0.034482759 | AA13: =SUM(V13:V14)/SUM(W13:W14) -> 0.60294118
A14: 2025 | B14: 34 | C14: 2 | D14: =C14+E14+F14 -> 12 | E14: 9 | F14: 1 | G14: 10 | H14: 1 | I14: 4 | J14: =D14+G14+H14 -> 23 | K14: =B14+E14+G14+H14 -> 54 | L14: 2 | M14: 34 | N14: =J14/K14 -> 0.42592593 | O14: =C14/B14 -> 0.058823529 | P14: =Y14 -> 0.42592593 | Q14: =Z14 -> 0.058823529 | U14: 2025 | V14: 21 | W14: 36 | X14: Last year | Y14: =J14/K14 -> 0.42592593 | Z14: =C14/B14 -> 0.058823529 | AA14: =V14/W14 -> 0.58333333
A15: Total | B15: =SUM(B3:B14) -> 408 | C15: =SUM(C3:C14) -> 16 | D15: =SUM(D3:D14) -> 73 | E15: =SUM(E3:E14) -> 51 | F15: =SUM(F3:F14) -> 6 | G15: =SUM(G3:G14) -> 143 | H15: =SUM(H3:H14) -> 9 | I15: =SUM(I3:I14) -> 35 | ... M15: =SUM(M3:M14) -> 408 | N15: =J15/K15 -> 0.36585366 | O15: =C15/B15 -> 0.039215686 | P15: =Y15 -> 0.36585366 | Q15: =Z15 -> 0.039215686 | U15: Total | V15: =SUM(V3:V14) -> 199 | W15: =SUM(W3:W14) -> 376 | X15: All years | Y15: =Y3 -> 0.36585366 | Z15: =Z3 -> 0.039215686 | AA15: =V15/W15 -> 0.52925532
H17: 2014 | J17: =SUM(J3:J14) -> 225 | K17: =SUM(K3:K14) -> 615 | L17: =SUM(L3:L14) -> 16 | M17: =SUM(M3:M14) -> 408 | V17: =SUM(V3:V14) -> 199 | W17: =SUM(W3:W14) -> 376
H18: 2015 | J18: =SUM(J4:J14) -> 221 | K18: =SUM(K4:K14) -> 592 | L18: =SUM(L4:L14) -> 15 | M18: =SUM(M4:M14) -> 388 | V18: =SUM(V4:V14) -> 196 | W18: =SUM(W4:W14) -> 370
H19: 2016 | J19: =SUM(J5:J14) -> 215 | K19: =SUM(K5:K14) -> 567 | L19: =SUM(L5:L14) -> 14 | M19: =SUM(M5:M14) -> 368 | V19: =SUM(V5:V14) -> 190 | W19: =SUM(W5:W14) -> 359
H20: 2017 | J20: =SUM(J6:J14) -> 209 | K20: =SUM(K6:K14) -> 542 | L20: =SUM(L6:L14) -> 13 | M20: =SUM(M6:M14) -> 348 | V20: =SUM(V6:V14) -> 186 | W20: =SUM(W6:W14) -> 345
H21: 2018 | J21: =SUM(J7:J14) -> 200 | K21: =SUM(K7:K14) -> 506 | L21: =SUM(L7:L14) -> 10 | M21: =SUM(M7:M14) -> 317 | V21: =SUM(V7:V14) -> 178 | W21: =SUM(W7:W14) -> 327
H22: 2019 | J22: =SUM(J8:J14) -> 191 | K22: =SUM(K8:K14) -> 469 | L22: =SUM(L8:L14) -> 9 | M22: =SUM(M8:M14) -> 287 | V22: =SUM(V8:V14) -> 171 | W22: =SUM(W8:W14) -> 313
H23: 2020 | J23: =SUM(J9:J14) -> 179 | K23: =SUM(K9:K14) -> 428 | L23: =SUM(L9:L14) -> 9 | M23: =SUM(M9:M14) -> 257 | V23: =SUM(V9:V14) -> 161 | W23: =SUM(W9:W14) -> 295
H24: 2021 | J24: =SUM(J10:J14) -> 156 | K24: =SUM(K10:K14) -> 367 | L24: =SUM(L10:L14) -> 9 | M24: =SUM(M10:M14) -> 217 | V24: =SUM(V10:V14) -> 142 | W24: =SUM(W10:W14) -> 252
H25: 2022 | J25: =SUM(J11:J14) -> 101 | K25: =SUM(K11:K14) -> 255 | L25: =SUM(L11:L14) -> 5 | M25: =SUM(M11:M14) -> 156 | V25: =SUM(V11:V14) -> 95 | W25: =SUM(W11:W14) -> 171
H26: 2023 | J26: =SUM(J12:J14) -> 68 | K26: =SUM(K12:K14) -> 175 | L26: =SUM(L12:L14) -> 2 | M26: =SUM(M12:M14) -> 106 | V26: =SUM(V12:V14) -> 62 | W26: =SUM(W12:W14) -> 119
H27: 2024 | J27: =SUM(J13:J14) -> 45 | K27: =SUM(K13:K14) -> 100 | L27: =SUM(L13:L14) -> 2 | M27: =SUM(M13:M14) -> 58 | V27: =SUM(V13:V14) -> 41 | W27: =SUM(W13:W14) -> 68
H28: 2025 | J28: =J14 -> 23 | K28: =K14 -> 54 | L28: =L14 -> 2 | M28: =M14 -> 34 | V28: =V14 -> 21 | W28: =W14 -> 36

Sheet FBI active shooter incidents
A1: No. | B1: Date | C1: County | D1: State | E1: Location | F1: Category | G1: Summary | H1: Perpetrator Name | I1: Perpetrator Age | J1: Perpetrator Gender | K1: Killed | L1: Wounded (Total) | M1: Weapon | N1: Time | O1: Resolved at the scene | P1: Resolution | Q1: place | R1: gun-free zone | S1: Gun-free Zone Link | T1: Link
A2: 1 | B2: 45679 | C2: Antioch | D2: Tennessee | E2: ANTIOCH HIGH SCHOOL | F2: Education | G2: On Wednesday, January 22, 2025, at approximately 11:09 a.m., a 17 year old male armed with a handgun opened fire on people inside the cafeteria of Antioch High School. The shooting resulted in one student fatality and two student injuries. The shooter died by suicide at the scene before law enforcement could intervene. | H2: Solomon Henderson | I2: 17 | J2: Male | K2: 1 | L2: 2 | M2: a handgun | N2: at approximately 11:09 a.m. | O2: 1 | P2: The shooter died by suicide at the scene before law enforcement could intervene. | Q2: inside the cafeteria | R2: 1 | S2: https://www.tennessean.com/story/news/education/2024/04/24/metro-nashville-public-schools-wont-allow-teachers-carry-guns-tennessee/73438202007/?gnt-cfr=1&gca-cat=p&gca-uir=true&gca-epti=z115447e1109xxv115447d--60--b--60--&gca-ft=161&gca-ds=sophi | T2: https://en.wikipedia.org/wiki/2025_Antioch_High_School_shooting
A3: 2 | B3: 45686 | C3: Moselle | D3: Mississippi | E3: SOUTHERN HENS INC. | F3: Commerce | G3: On Wednesday, January 29, 2025, at approximately 2:00 p.m., a 21 year old male armed with a rifle began shooting at people outside Southern Hens Inc. There were no casualties and the shooter was killed at the scene by security personnel. | H3: Lorenzo Hawthorne | I3: 21 | J3: Male | K3: 0 | L3: 0 | M3: a rifle | N3: at approximately 2:00 p.m. | O3: 1 | P3: The shooter was killed at the scene by security personnel. | Q3: outside Southern Hens Inc. | R3: 0 | S3: https://law.justia.com/codes/mississippi/title-45/chapter-9/restrictions-upon-local-regulation-of-firearms-or-ammunition/section-45-9-55/ | T3: https://www.wdam.com/2025/01/29/shooting-incident-southern-hens-moselle-opens-active-investigation/?utm_source=chatgpt.com
A4: 3 | B4: 45692 | C4: New Albany | D4: Ohio | E4: KDC/ONE WAREHOUSE | F4: Commerce | G4: On Tuesday, February 4, 2025, at approximately 10:19 p.m., a 28 year old male armed with a handgun began shooting people inside the KDC/One Warehouse. The shooting resulted in two fatalities and four injuries. Law enforcement apprehended the shooter at a different location the following day. | H4: Bruce Reginald Foster III | I4: 28 | J4: Male | K4: 2 | L4: 4 | M4: a handgun | N4: at approximately 10:19 p.m. | O4: 0 | P4: Law enforcement apprehended the shooter at a different location the following day. | Q4: inside the KDC/One Warehouse | R4: 1 | S4: https://www.dispatch.com/story/news/courts/2026/02/03/new-albany-mass-shooting-kdcone-families-lawsuit-ohio-bruce-foster-shakhar-chapagai-kyle-vaver/88418286007/ | T4: https://newalbanyohio.org/official-updates-kdc-one-shooting/
A5: 4 | B5: 45705 | C5: Crozet | D5: Virginia | E5: HARRIS TEETER #332 | F5: Commerce | G5: On Monday, February 17, 2025, at approximately 1:34 p.m., a 28 year old male armed with a rifle opened fire on people outside the Harris Teeter. The attack resulted in two fatalities. An off-duty federal law enforcement agent killed the shooter. | H5: Justin M. Barbour | I5: 28 | J5: Male | K5: 2 | L5: 0 | M5: a rifle | N5: at approximately 1:34 p.m. | O5: 1 | P5: An off-duty federal law enforcement agent killed the shooter. | Q5: outside the Harris Teeter | R5: 0 | T5: https://www.albemarle.org/Home/Components/News/News/1071/
A6: 5 | B6: 45739 | C6: Kinston | D6: North Carolina | E6: C.F. HARVEY PARKWAY AND NC 11 | F6: Open Space | G6: On Sunday, March 23, 2025, at approximately 10:15 a.m., a 34 year old male armed with multiple weapons began shooting at occupied Amazon vans along C.F. Harvey Parkway and NC 11. There were no casualties and law enforcement apprehended the shooter after he crashed his vehicle at a different location. | H6: Lonneil Cordarius Mason | I6: 34 | J6: Male | K6: 0 | L6: 0 | M6: a handgun and a rifle | N6: at approximately 10:15 a.m. | O6: 0 | P6: Law enforcement apprehended the shooter after he crashed his vehicle at a different location. | Q6: along C.F. Harvey Parkway and NC 11 | R6: 0 | T6: https://thencbeat.com/charlotte-man-accused-of-shooting-at-amazon-vans-and-causing-head-on-crash-in-lenoir-county/
A7: 6 | B7: 45747 | C7: Madera | D7: California | E7: WALGREENS #11242 | F7: Commerce | G7: On Monday, March 31, 2025, at approximately 9:36 p.m., a 30 year old male armed with a handgun began shooting people inside Walgreens, killing one person. Law enforcement officers apprehended the shooter at the scene. | H7: Narciso Gallardo Fernandez | I7: 30 | J7: Male | K7: 1 | L7: 0 | M7: a handgun | N7: at approximately 9:36 p.m. | O7: 1 | P7: Law enforcement officers apprehended the shooter at the scene. | Q7: inside Walgreens | R7: 0 | S7: In 2019, Walgreens announced that it was asking customers not to openly carry firearms in its stores, except for authorized law enforcement. The announcement did not prohibit concealed carry by customers. (https://www.investing.com/news/stock-market-news/walgreens-changes-firearm-policy-joining-kroger-and-walmart-1971472) | T7: https://abcnews.com/US/man-hates-big-pharmacies-allegedly-guns-walgreens-worker/story?id=120408357
A8: 7 | B8: 45748 | C8: Baker | D8: California | E8: CHEVRON | F8: Commerce | G8: On Tuesday, April 1, 2025, at approximately 2:36 a.m., a 35 year old male armed with a handgun began shooting people at the Chevron gas station and nearby locations, wounding three people. Law enforcement apprehended the shooter at a different location. | H8: Antonio Chaidez | I8: 35 | J8: Male | K8: 0 | L8: 3 | M8: a handgun | N8: at approximately 2:36 a.m. | O8: 0 | P8: Law enforcement apprehended the shooter at a different location. | Q8: at the Chevron gas station and nearby locations | R8: 0 | T8: https://www.cbsnews.com/losangeles/news/socal-store-clerk-driver-and-person-sleeping-inside-a-car-shot-in-series-of-shootings-sheriff-says/
A9: 8 | B9: 45749 | C9: Sabattus | D9: Maine | E9: 800 BLOCK MIDDLE ROAD | F9: Open Space | G9: On Wednesday, April 2, 2025, at approximately 4:15 p.m., a 29 year old male armed with multiple weapons began shooting people in passing vehicles at the intersection of King Road and Middle Road. Two individuals were killed and two were wounded. The shooter died by suicide at the scene before law enforcement arrived. | H9: James Davis III | I9: 29 | J9: Male | K9: 2 | L9: 2 | M9: a handgun and a rifle | N9: at approximately 4:15 p.m. | O9: 1 | P9: The shooter died by suicide at the scene before law enforcement arrived. | Q9: at the intersection of King Road and Middle Road. | R9: 0 | T9: https://www.maine.gov/dps/msp/taxonomy/term/1627
A10: 9 | B10: 45764 | C10: Tallahassee | D10: Florida | E10: FLORIDA STATE UNIVERSITY | F10: Education | G10: On Thursday, April 17, 2025, at approximately 11:55 a.m., a 20 year old male armed with multiple weapons opened fire on people at Florida State University, killing two and wounding seven (five students). Law enforcement shot and apprehended the shooter at the scene. | H10: Phoenix Ikner | I10: 20 | J10: Male | K10: 2 | L10: 7 | M10: a handgun (stepmother's former service weapon) and a shotgun | N10: at approximately 11:55 a.m. | O10: 1 | P10: Law enforcement shot and apprehended the shooter at the scene. | Q10: at Florida State University | R10: 1 | S10: The concealed carry law included a lengthy list of places where open and concealed weapons are restricted: ...Any school, college, or professional athletic event not related to firearms; Any elementary or secondary school facility or administration building... (https://www.tallahassee.com/story/news/2025/04/17/guns-florida-campus-college-university-laws-restrictions-gunfree-zones/83141561007/) | T10: https://www.bbc.com/news/articles/cvgq7l32r98o
A11: 10 | B11: 45773 | C11: Memphis | D11: Tennessee | E11: MULTIPLE LOCATIONS | F11: Open Space | G11: On Saturday, April 26, 2025, at approximately 12:03 p.m., a 24 year old male armed with a handgun began shooting people at multiple locations, wounding three. Law enforcement apprehended the shooter at a different location. | H11: Enoc Martinez | I11: 24 | J11: Male | K11: 0 | L11: 3 | M11: a handgun | N11: at approximately 12:03 p.m. | O11: 0 | P11: Law enforcement apprehended the shooter at a different location. | Q11: 3600 block of Faxon Ave.; Sam Cooper Blvd. at White Station Rd.; I-240 near Walnut Grove Rd. | R11: 0 | T11: https://www.localmemphis.com/article/news/local/man-critical-following-i-240-shooting-suspect-detained/522-e22879d8-3be7-4b14-8fa6-7ccc41bb1e5b | U11: https://www.actionnews5.com/2025/04/27/driver-charged-with-wounding-3-different-shootings-across-memphis-roadways-within-20-minutes/
A12: 11 | B12: 45777 | C12: Seymour | D12: Indiana | E12: JACKSON COUNTY PUBLIC LIBRARY | F12: Government | G12: On Wednesday, April 30, 2025, at approximately 12:01 p.m., an 18 year old male armed with a shotgun began shooting at people inside the Jackson County Public Library, injuring one person. A civilian intervened and restrained the shooter until law enforcement arrived. | H12: Emiliano Cuevas-Bravo | I12: 18 | J12: Male | K12: 0 | L12: 1 | M12: a shotgun | N12: at approximately 12:01 p.m. | O12: 1 | P12: A civilian intervened and restrained the shooter until law enforcement arrived. | Q12: inside the Jackson County Public Library | R12: 1 | S12: ORS 166.370 – Possession of firearm or dangerous weapon in a public building (https://law.justia.com/codes/oregon/volume-04/chapter-166/section-166-370/) | T12: https://www.wlky.com/article/jackson-county-public-library-shooting-indiana/64636348
A13: 12 | B13: 45798 | C13: Washington, D.C. | D13: Washington, D.C. | E13: 500 BLOCK 3RD STREET NORTHWEST | F13: Open Space | G13: On Wednesday, May 21, 2025, at approximately 9:05 p.m., a 31 year old male armed with a handgun began shooting people outside the Capital Jewish Museum, killing two. Law enforcement apprehended the shooter at the scene. | H13: Elias Rodriguez | I13: 31 | J13: Male | K13: 2 | L13: 0 | M13: a handgun | N13: at approximately 9:05 p.m. | O13: 1 | P13: Law enforcement apprehended the shooter at the scene. | Q13: on a sidewalk outside the Capital Jewish Museum | R13: 0 | S13: The museum itself prohibits weapons on its premises, but that policy does not automatically extend to the adjacent public sidewalk. | T13: https://www.justice.gov/usao-dc/pr/federal-charges-filed-after-deadly-shooting-israeli-diplomats-dc
A14: 13 | B14: 45830 | C14: Wayne | D14: Michigan | E14: CROSSPOINTE COMMUNITY CHURCH | F14: House of Worship | G14: On Sunday, June 22, 2025, at approximately 11:00 a.m., a 31 year old male armed with a rifle began shooting people outside CrossPointe Community Church. Observing the incident unfold, a parishioner struck the shooter with a vehicle before security team members engaged and killed the attacker at the scene. One security team member sustained injuries during the incident. | H14: Brian Anthony Browning | I14: 31 | J14: Male | K14: 0 | L14: 1 | M14: a rifle and a handgun | N14: at approximately 11:00 a.m. | O14: 1 | P14: Security team members engaged and killed the attacker at the scene. | Q14: outside CrossPointe Community Church | R14: 0 | S14: https://www.usconcealedcarry.com/blog/crosspointe-community-church-shooting/ | T14: https://abcnews.com/US/security-guard-kills-gunman-thwarts-attack-michigan-church/story?id=123100085
A15: 14 | B15: 45837 | C15: Coeur d’Alene | D15: Idaho | E15: CANFIELD MOUNTAIN | F15: Open Space | G15: On Sunday, June 29, 2025, at approximately 2:00 p.m., a 20 year old male armed with a shotgun started a brush fire and began shooting responding firefighters on Canfield Mountain, killing two and wounding one. Law enforcement exchanged gunfire with the shooter who died by suicide nearby. | H15: Wess Val Roley | I15: 20 | J15: Male | K15: 2 | L15: 1 | M15: a shotgun | N15: at approximately 2:00 p.m. | O15: 0 | P15: Law enforcement exchanged gunfire with the shooter who died by suicide nearby. | Q15: on Canfield Mountain | R15: 0 | T15: https://en.wikipedia.org/wiki/2025_Coeur_d%27Alene_shooting
A16: 15 | B16: 45845 | C16: McAllen | D16: Texas | E16: BORDER PATROL RIO GRANDE VALLEY SECTOR ANNEX | F16: Government | G16: On Monday, July 7, 2025, at approximately 5:50 a.m., a 27 year old male armed with multiple weapons opened fire on people outside the Border Patrol Rio Grande Valley Sector Annex. Three people sustained injuries, including two law enforcement officers and one civilian employee. Law enforcement exchanged gunfire and killed the shooter at the scene. | H16: Ryan Louis Mosqueda | I16: 27 | J16: Male | K16: 0 | L16: 3 | M16: a handgun and a rifle | N16: at approximately 5:50 a.m. | O16: 1 | P16: Law enforcement exchanged gunfire and killed the shooter at the scene. | Q16: outside the Border Patrol Rio Grande Valley Sector Annex | R16: 1 | S16: 18 U.S.C. § 930 (https://www.law.cornell.edu/uscode/text/18/930) | T16: https://abcnews.com/US/suspect-dead-after-active-shooter-incident-texas-border/story?id=123536670 | U16: https://www.krgv.com/news/police-report-details-search-for-gunman-prior-to-attack-on-mcallen-border-patrol-facility/
A17: 16 | B17: 45857 | C17: Ashland | D17: Oregon | E17: INTERSTATE 5, MILEPOST 15 | F17: Open Space | G17: On Saturday, July 19, 2025, at approximately 5:22 a.m., a 29 year old male armed with a shotgun began shooting at people in passing vehicles on Interstate 5, milepost 15. There were no casualties, and law enforcement apprehended the shooter at the scene. | H17: Devanta Bell Mader | I17: 29 | J17: Male | K17: 0 | L17: 0 | M17: a shotgun | N17: at approximately 5:22 a.m. | O17: 1 | P17: Law enforcement apprehended the shooter at the scene. | Q17: on Interstate 5 | R17: 0 | T17: https://rv-times.com/2025/07/22/ashland-man-charged-with-attempted-murder-after-active-shooting-incident-saturday-near-i-5/
A18: 17 | B18: 45866 | C18: Reno | D18: Nevada | E18: GRAND SIERRA RESORT | F18: Commerce | G18: On Monday, July 28, 2025, at approximately 7:25 a.m., a 26 year old male armed with a handgun began shooting people outside the Grand Sierra Resort, killing three and wounding four including one law enforcement officer. Law enforcement and security personnel exchanged gunfire with the shooter and apprehended him at the scene. The shooter died from injuries sustained during the gunfire. | H18: Dakota Hawver | I18: 26 | J18: Male | K18: 3 | L18: 4 | M18: a handgun | N18: at approximately 7:25 a.m. | O18: 1 | P18: Law enforcement and security personnel exchanged gunfire with the shooter and apprehended him at the scene. The shooter died from injuries sustained during the gunfire. | Q18: outside the Grand Sierra Resort | R18: 1 | S18: Firearms and weapons are prohibited on GSR property. (https://www.grandsierraresort.com/lost-and-found-safety) | T18: https://www.cityofsparks.us/_T41_R584.php
A19: 18 | B19: 45866 | C19: New York | D19: New York | E19: 345 PARK AVENUE | F19: Commerce | G19: On Monday, July 28, 2025, at approximately 6:27 p.m., a 27 year old male armed with a rifle opened fire on people inside the 345 Park Avenue office building. Four people were killed, including one law enforcement officer and one security personnel, and one person was wounded. The shooter died by suicide at the scene before law enforcement arrived. | H19: Shane Devon Tamura | I19: 27 | J19: Male | K19: 4 | L19: 1 | M19: a rifle | N19: at approximately 6:27 p.m. | O19: 1 | P19: The shooter died by suicide at the scene before law enforcement arrived. | Q19: inside the 345 Park Avenue office building | R19: 1 | T19: https://en.wikipedia.org/wiki/2025_Midtown_Manhattan_shooting
A20: 19 | B20: 45870 | C20: Anaconda | D20: Montana | E20: THE OWL BAR | F20: Commerce | G20: On Friday, August 1, 2025, at approximately 10:30 a.m., a 45 year old male armed with a rifle began shooting people inside The Owl Bar, killing four. Law enforcement apprehended the shooter seven days later at another location. | H20: Michael Paul Brown | I20: 45 | J20: Male | K20: 4 | L20: 0 | M20: a rifle | N20: at approximately 10:30 a.m. | O20: 0 | P20: Law enforcement apprehended the shooter seven days later at another location. | Q20: inside The Owl Bar | R20: 0 | T20: https://en.wikipedia.org/wiki/2025_Anaconda_shooting
A21: 20 | B21: 45875 | C21: Fort Stewart-Hunter Army Airfield | D21: Georgia | E21: 2ND ARMORED BRIGADE COMBAT TEAM COMPLEX | F21: Government | G21: On Wednesday, August 6, 2025, at approximately 10:56 a.m., a 28 year old male armed with a handgun began shooting people at the 2nd Armored Brigade Combat Team Complex, wounding five military personnel. Unarmed soldiers tackled and restrained the shooter at the scene before military police apprehended him. | H21: Sgt. Quornelius Radford | I21: 28 | J21: Male | K21: 0 | L21: 5 | M21: a handgun | N21: at approximately 10:56 a.m. | O21: 1 | P21: Unarmed soldiers tackled and restrained the shooter at the scene before military police apprehended him. | Q21: at the 2nd Armored Brigade Combat Team Complex | R21: 1 | S21: Fort Stewart and all Army installations in Georgia prohibit privately owned weapons and ammunition on post unless authorized by a senior commander, according to a notice on the installation’s website. (https://www.ajc.com/news/2025/08/what-we-know-about-the-accused-fort-stewart-shooter/) | T21: https://www.cnn.com/2026/06/23/us/quornelius-radford-georgia-shooting
A22: 21 | B22: 45877 | C22: Atlanta | D22: Georgia | E22: CENTERS FOR DISEASE CONTROL AND PREVENTION | F22: Government | G22: On Friday, August 8, 2025, at approximately 4:50 p.m., a 30 year old male armed with multiple weapons began shooting people from an elevated position across the street in the Centers for Disease Control and Prevention office buildings, killing one law enforcement officer. After exchanging gunfire with law enforcement, the shooter died by suicide at the scene. | H22: Patrick Joseph White | I22: 30 | J22: Male | K22: 1 | L22: 0 | M22: three handguns, two rifles, and a shotgun | N22: at approximately 4:50 p.m. | O22: 1 | P22: After exchanging gunfire with law enforcement, the shooter died by suicide at the scene. | Q22: on the second floor of the CVS store | R22: 0 | S22: CVS has not publicly announced a nationwide ban on concealed carry by customers. | T22: https://www.cnn.com/2025/08/10/health/atlanta-cdc-shooting-covid-vaccine
A23: 22 | B23: 45880 | C23: Austin | D23: Texas | E23: TARGET #95 | F23: Commerce | G23: On Monday, August 11, 2025, at approximately 2:15 p.m., a 32 year old male armed with a handgun began shooting people outside Target, killing three and injuring three others. Law enforcement apprehended the shooter at another location. | H23: Ethan Nieneker | I23: 32 | J23: Male | K23: 3 | L23: 3 | M23: a handgun | N23: at approximately 2:15 p.m. | O23: 0 | P23: Law enforcement apprehended the shooter at another location. | Q23: in the Target parking lot | R23: 0 | T23: https://www.austintexas.gov/police/news/homicide-investigation-8601-research-boulevard-northbound-target-parking-lot
A24: 23 | B24: 45896 | C24: Minneapolis | D24: Minnesota | E24: ANNUNCIATION ROMAN CATHOLIC CHURCH | F24: House of Worship | G24: On Wednesday, August 27, 2025, at approximately 8:27 a.m., a 23 year old male armed with multiple weapons began shooting people inside the Annunciation Roman Catholic Church, killing two and wounding 28. The shooter died by suicide at the scene before law enforcement arrived. | H24: Robin Westman | I24: 23 | J24: Male | K24: 2 | L24: 28 | M24: a handgun, a rifle, and a shotgun | N24: at approximately 8:27 a.m. | O24: 1 | P24: The shooter died by suicide at the scene before law enforcement arrived. | Q24: inside the Annunciation Roman Catholic Church | R24: 1 | S24: https://crimeresearch.org/2025/08/at-the-wall-street-journal-another-mass-shooting-in-a-gun-free-zone/ | T24: https://en.wikipedia.org/w/index.php?title=2025_Annunciation_Catholic_Church_shooting
A25: 24 | B25: 45907 | C25: Colony Ridge | D25: Texas | E25: ALAS LOCAS BAR | F25: Commerce | G25: On Sunday, September 7, 2025, at approximately 2:30 a.m., a 32 year old male armed with multiple weapons opened fire on people outside Alas Locas Bar, killing two and injuring four. The shooter remains at large. | H25: Jose Osman Aguilar Cantillano | I25: 32 | J25: Male | K25: 2 | L25: 4 | M25: two handguns | N25: at approximately 2:30 a.m. | O25: 0 | P25: The shooter remains at large. | Q25: on the patio of a bar | R25: 1 | S25: Alas Locas Bar had a "No Firearms or Weapons" sign posted. | T25: https://abcnews.com/US/suspect-run-after-shooting-6-people-1-fatally/story?id=125337072 | U25: https://www.dps.texas.gov/Texas10MostWanted/MostWanted/CriminalIllegalImmigrantDetails?id=1883
A26: 25 | B26: 45910 | C26: Evergreen | D26: Colorado | E26: EVERGREEN HIGH SCHOOL | F26: Education | G26: On Wednesday, September 10, 2025, at approximately 12:24 p.m., a 16 year old male armed with a handgun began shooting people at Evergreen High School, wounding two students. The shooter died by suicide at the scene after law enforcement arrived. | H26: Desmond Holly | I26: 16 | J26: Male | K26: 0 | L26: 2 | M26: a handgun | N26: at approximately 12:24 p.m. | O26: 1 | P26: The shooter died by suicide at the scene after law enforcement arrived. | Q26: at Evergreen High School | R26: 1 | S26: Colorado Revised Statutes § 18-12-105.5 – Unlawfully carrying a weapon; unlawful possession of weapons; school, college, or university grounds (https://colorado.public.law/statutes/crs_18-12-105.5) | T26: https://en.wikipedia.org/wiki/2025_Evergreen_High_School_shooting
A27: 26 | B27: 45920 | C27: Nashua | D27: New Hampshire | E27: SKY MEADOW COUNTRY CLUB | F27: Commerce | G27: On Saturday, September 20, 2025, at approximately 7:17 p.m., a 23 year old male armed with a handgun began shooting people at the Sky Meadow Country Club, killing one and injuring six. Law enforcement apprehended the shooter at the scene following civilian intervention. | H27: Hunter Nadeau | I27: 23 | J27: Male | K27: 1 | L27: 6 | M27: a handgun | N27: at approximately 7:17 p.m. | O27: 1 | P27: Law enforcement apprehended the shooter at the scene following civilian intervention. | Q27: at the Sky Meadow Country Club | R27: Unknown | T27: https://www.nbcboston.com/news/local/documents-shed-light-on-motive-of-man-charged-in-deadly-nh-country-club-shooting/3907511/
A28: 27 | B28: 45924 | C28: Dallas | D28: Texas | E28: IMMIGRATION AND CUSTOMS ENFORCEMENT FIELD OFFICE | F28: Government | G28: On Wednesday, September 24, 2025, at approximately 6:40 a.m., a 29 year old male armed with a rifle opened fire on people at the Immigration and Customs Enforcement Field Office, killing two and wounding one. The shooter died by suicide at the scene before law enforcement arrived. | H28: Joshua Jahn | I28: 29 | J28: Male | K28: 2 | L28: 1 | M28: a rifle | N28: at approximately 6:40 a.m. | O28: 1 | P28: The shooter died by suicide at the scene before law enforcement arrived. | Q28: from the rooftop of an attorney's office across the street from the ICE Detention facility | R28: Unknown | T28: https://en.wikipedia.org/wiki/2025_Dallas_ICE_facility_shooting | U28: https://www.cbsnews.com/texas/news/dallas-police-ice/
A29: 28 | B29: 45927 | C29: Southport | D29: North Carolina | E29: AMERICAN FISH COMPANY | F29: Commerce | G29: On Saturday, September 27, 2025, at approximately 9:30 p.m., a 40 year old male armed with a rifle began shooting people at American Fish Company, killing three and wounding eight. Law enforcement apprehended the shooter at another location. | H29: Nigel Max Edge | I29: 40 | J29: Male | K29: 3 | L29: 8 | M29: a rifle | N29: at approximately 9:30 p.m. | O29: 0 | P29: Law enforcement apprehended the shooter at another location. | Q29: from a boat in the Intracoastal Waterway at the bar | R29: 0 | T29: https://en.wikipedia.org/wiki/2025_Southport_shooting
A30: 29 | B30: 45927 | C30: Eagle Pass | D30: Texas | E30: KICKAPOO LUCKY EAGLE CASINO HOTEL | F30: Commerce | G30: On Saturday, September 27, 2025, at approximately 11:48 p.m., a 34 year old male armed with a rifle began shooting people at Kickapoo Lucky Eagle Casino Hotel, killing two people and injuring five. Law enforcement apprehended the shooter at another location. | H30: Keryan Rashad Jones | I30: 34 | J30: Male | K30: 2 | L30: 5 | M30: a rifle | N30: at approximately 11:48 p.m. | O30: 0 | P30: Law enforcement apprehended the shooter at another location. | Q30: near the A-11 entrance of the casino | R30: 1 | S30: The hotel has a "No Firearms" policy. | T30: https://www.expressnews.com/news/article/kickapoo-lucky-eagle-casino-shooting-affidavit-21078992.php
A31: 30 | B31: 45928 | C31: Grand Blanc Township | D31: Michigan | E31: THE CHURCH OF JESUS CHRIST OF LATTER-DAY SAINTS | F31: House of Worship | G31: On Sunday, September 28, 2025, at approximately 10:25 a.m., a 40 year old male armed with a rifle began shooting people at The Church of Jesus Christ of Latter-day Saints and started a fire, killing four and wounding eight. Law enforcement killed the shooter at the scene. | H31: Thomas Jacob Sanford | I31: 40 | J31: Male | K31: 4 | L31: 8 | M31: a rifle | N31: at approximately 10:25 a.m. | O31: 1 | P31: Law enforcement killed the shooter at the scene. | Q31: at The Church of Jesus Christ of Latter-day Saints | R31: 1 | S31: 35.5.7.2 Firearms and Weapons Firearms and other lethal weapons are not allowed on Church property. This includes concealed weapons. This does not apply to current law enforcement officers. (https://www.churchofjesuschrist.org/study/manual/general-handbook/35?lang=eng) | T31: https://www.theguardian.com/us-news/2025/nov/01/michigan-mormon-church-shooter
A32: 31 | B32: 45969 | C32: San Antonio | D32: Texas | E32: MISSION LANDSCAPE SUPPLIES | F32: Commerce | G32: On Saturday, November 8, 2025, at approximately 7:45 a.m., a 21 year old male armed with a handgun began shooting people at Mission Landscape Supplies, killing three. The shooter died by suicide at a different location. | H32: Jose Hernandez Galo | I32: 21 | J32: Male | K32: 3 | L32: 0 | M32: a handgun | N32: at approximately 7:45 a.m. | O32: 0 | P32: The shooter died by suicide at a different location. | Q32: at Mission Landscape Supplies | R32: Unknown | T32: https://www.ksat.com/news/local/2025/11/12/man-who-killed-3-coworkers-at-north-side-landscape-supply-company-was-in-the-us-illegally-ice-says/
A33: 32 | B33: 45987 | C33: Washington, D.C. | D33: Washington, D.C. | E33: 17TH AND I STREET NORTHWEST | F33: Open Space | G33: On Wednesday, November 26, 2025, at approximately 2:15 p.m., a 29 year old male armed with a handgun began shooting people near a metro station. One National Guard member was killed, and one was wounded. A nearby guardsman opened fire on the shooter, detaining him until he was apprehended by law enforcement. | H33: Rahmanullah Lakanwal | I33: 29 | J33: Male | K33: 1 | L33: 1 | M33: a handgun | N33: at approximately 2:15 p.m. | O33: 1 | P33: A nearby guardsman opened fire on the shooter, detaining him until he was apprehended by law enforcement. | Q33: near the intersection of 17th and H Streets NW | R33: 0 | T33: https://abcnews.com/Politics/2-military-personnel-appearing-national-guard-shot-white/story?id=127905871 | U33: https://www.washingtoninformer.com/downtown-dc-shooting-guardsmen/
A34: 33 | B34: 46004 | C34: Providence | D34: Rhode Island | E34: BROWN UNIVERSITY | F34: Education | G34: On Saturday, December 13, 2025, at approximately 4:03 p.m., a 48 year old male armed with a handgun began shooting people at Brown University. Two students were killed and nine other students were wounded. The shooter died by suicide at another location. | H34: Claudio Manuel Neves Valente | I34: 48 | J34: Male | K34: 2 | L34: 9 | M34: a handgun | N34: at approximately 4:03 p.m. | O34: 0 | P34: The shooter died by suicide at another location. | Q34: at Brown University | R34: 1 | S34: The possession, use, or storage of Weapons or Firearms is strictly prohibited on all University Property and at University-sponsored events, except as authorized under this policy. (https://policy.brown.edu/policy/weapons) | T34: https://en.wikipedia.org/wiki/2025_Brown_University_shooting
A35: 34 | B35: 46017 | C35: Wallace | D35: Idaho | E35: SHOSHONE COUNTY SHERIFF’S OFFICE | F35: Government | G35: On Friday, December 26, 2025, at approximately 2:30 p.m., a 77 year old male armed with multiple weapons began shooting people at Shoshone County Sheriff’s Office, injuring three including one law enforcement officer. The shooter was killed while exchanging gunfire with law enforcement. | H35: John Drake | I35: 77 | J35: Male | K35: 0 | L35: 3 | M35: two handguns, a rifle, and a shotgun | N35: at approximately 2:30 p.m. | O35: 1 | P35: The shooter was killed while exchanging gunfire with law enforcement. | Q35: in the Shoshone County Sheriff’s Office lobby | R35: 1 | S35: Idaho Code § 18-3302C (https://law.justia.com/codes/idaho/title-18/chapter-33/section-18-3302c/) | T35: https://www.police1.com/officer-shootings/77-year-old-suspect-opens-fire-inside-idaho-sheriffs-office-lobby-before-fatal-ois | U35: https://www.krem.com/article/news/local/shoshone-county/officers-justified-december-2025-wallace-shooting-shoshone-county-prosecuting-attorney/293-88a22e04-fbd1-444a-ad3d-51cca7bdb6f5 | V35: https://www.wbaltv.com/article/wallace-idaho-sheriff-office-shooting/69877362

Sheet FBI Civilian Involvement
A1: No. | B1: Date | C1: County | D1: State | E1: Location | F1: Category | G1: Summary | H1: Perpetrator Name | I1: Perpetrator Age | J1: Perpetrator Gender | K1: Killed | L1: Wounded (Total) | M1: Weapon | N1: Time | O1: Resolved at the scene | P1: Resolution | Q1: Civilian Involvement | R1: armed civilian involved (firearm) | S1: Link
A2: 1 | B2: 45692 | C2: New Albany | D2: Ohio | E2: KDC/ONE WAREHOUSE | F2: Commerce | G2: On Tuesday, February 4, 2025, at approximately 10:19 p.m., a 28 year old male armed with a handgun began shooting people inside the KDC/One Warehouse. The shooting resulted in two fatalities and four injuries. Law enforcement apprehended the shooter at a different location the following day. | H2: Bruce Reginald Foster III | I2: 28 | J2: Male | K2: 2 | L2: 4 | M2: a handgun | N2: at approximately 10:19 p.m. | O2: 0 | P2: Law enforcement apprehended the shooter at a different location the following day. | Q2: At the KDC/One Warehouse shooting, civilians disarmed the shooter, forcing him from the scene. | R2: 0 | S2: https://newalbanyohio.org/official-updates-kdc-one-shooting/
A3: 2 | B3: 45777 | C3: Seymour | D3: Indiana | E3: JACKSON COUNTY PUBLIC LIBRARY | F3: Government | G3: On Wednesday, April 30, 2025, at approximately 12:01 p.m., an 18 year old male armed with a shotgun began shooting at people inside the Jackson County Public Library, injuring one person. A civilian intervened and restrained the shooter until law enforcement arrived. | H3: Emiliano Cuevas-Bravo | I3: 18 | J3: Male | K3: 0 | L3: 1 | M3: a shotgun | N3: at approximately 12:01 p.m. | O3: 1 | P3: A civilian intervened and restrained the shooter until law enforcement arrived. | Q3: In the Jackson County Public Library incident, civilians overpowered the shooter during a shotgun malfunction. | R3: 0 | S3: https://www.wlky.com/article/jackson-county-public-library-shooting-indiana/64636348
A4: 3 | B4: 45830 | C4: Wayne | D4: Michigan | E4: CROSSPOINTE COMMUNITY CHURCH | F4: House of Worship | G4: On Sunday, June 22, 2025, at approximately 11:00 a.m., a 31 year old male armed with a rifle began shooting people outside CrossPointe Community Church. Observing the incident unfold, a parishioner struck the shooter with a vehicle before security team members engaged and killed the attacker at the scene. One security team member sustained injuries during the incident. | H4: Brian Anthony Browning | I4: 31 | J4: Male | K4: 0 | L4: 1 | M4: a rifle and a handgun | N4: at approximately 11:00 a.m. | O4: 1 | P4: Security team members engaged and killed the attacker at the scene. | Q4: At CrossPointe Community Church, a church member spotted the attacker carrying an AR-15-style rifle and immediately rammed him with a truck. That intervention allowed two volunteer members of the church's security team to shoot and stop the attacker before he could carry out what could have become a mass public shooting. | R4: 0 (misclassified by FBI; involved volunteer members of the church) | S4: https://abcnews.com/US/security-guard-kills-gunman-thwarts-attack-michigan-church/story?id=123100085
A5: 4 | B5: 45845 | C5: McAllen | D5: Texas | E5: BORDER PATROL RIO GRANDE VALLEY SECTOR ANNEX | F5: Government | G5: On Monday, July 7, 2025, at approximately 5:50 a.m., a 27 year old male armed with multiple weapons opened fire on people outside the Border Patrol Rio Grande Valley Sector Annex. Three people sustained injuries, including two law enforcement officers and one civilian employee. Law enforcement exchanged gunfire and killed the shooter at the scene. | H5: Ryan Louis Mosqueda | I5: 27 | J5: Male | K5: 0 | L5: 3 | M5: an assault style rifle and tactical gear; a handgun in the trunk | N5: at approximately 5:50 a.m. | O5: 1 | P5: Law enforcement exchanged gunfire and killed the shooter at the scene. | Q5: The specialist retrieved his personally owned pistol from the center console of his vehicle and returned fire, firing approximately three bullets through the windshield at the man. | R5: 1 | S5: https://www.einnews.com/pr_news/830447790/summary-of-incident-shooter-killed-in-attack-on-border-patrol-facility | T5: https://abcnews.com/US/suspect-dead-after-active-shooter-incident-texas-border/story?id=123536670 | U5: https://www.krgv.com/news/police-report-details-search-for-gunman-prior-to-attack-on-mcallen-border-patrol-facility/
A6: 5 | B6: 45875 | C6: Fort Stewart-Hunter Army Airfield | D6: Georgia | E6: 2ND ARMORED BRIGADE COMBAT TEAM COMPLEX | F6: Government | G6: On Wednesday, August 6, 2025, at approximately 10:56 a.m., a 28 year old male armed with a handgun began shooting people at the 2nd Armored Brigade Combat Team Complex, wounding five military personnel. Unarmed soldiers tackled and restrained the shooter at the scene before military police apprehended him. | H6: Sgt. Quornelius Radford | I6: 28 | J6: Male | K6: 0 | L6: 5 | M6: a handgun | N6: at approximately 10:56 a.m. | O6: 1 | P6: Unarmed soldiers tackled and restrained the shooter at the scene before military police apprehended him. | Q6: In the 2nd Armored Brigade Combat Team Complex shooting, unarmed soldiers disarmed and restrained the suspect until military police arrived. | R6: 0 | S6: https://www.cnn.com/2026/06/23/us/quornelius-radford-georgia-shooting
A7: 6 | B7: 45920 | C7: Nashua | D7: New Hampshire | E7: SKY MEADOW COUNTRY CLUB | F7: Commerce | G7: On Saturday, September 20, 2025, at approximately 7:17 p.m., a 23 year old male armed with a handgun began shooting people at the Sky Meadow Country Club, killing one and injuring six. Law enforcement apprehended the shooter at the scene following civilian intervention. | H7: Hunter Nadeau | I7: 23 | J7: Male | K7: 1 | L7: 6 | M7: a handgun | N7: at approximately 7:17 p.m. | O7: 1 | P7: Law enforcement apprehended the shooter at the scene following civilian intervention. | Q7: At the Sky Meadow Country Club shooting, a civilian hit the shooter with a chair, disarming and causing him to flee. | R7: 0 | S7: https://www.nbcboston.com/news/local/documents-shed-light-on-motive-of-man-charged-in-deadly-nh-country-club-shooting/3907511/
A8: 7 | B8: 45928 | C8: Grand Blanc Township | D8: Michigan | E8: THE CHURCH OF JESUS CHRIST OF LATTER-DAY SAINTS | F8: House of Worship | G8: On Sunday, September 28, 2025, at approximately 10:25 a.m., a 40 year old male armed with a rifle began shooting people at The Church of Jesus Christ of Latter-day Saints and started a fire, killing four and wounding eight. Law enforcement killed the shooter at the scene. | H8: Thomas Jacob Sanford | I8: 40 | J8: Male | K8: 4 | L8: 8 | M8: a rifle | N8: at approximately 10:25 a.m. | O8: 1 | P8: Law enforcement killed the shooter at the scene. | Q8: A man who was attending the service confronted the suspect and fired a weapon, but missed, the prosecutor's office said...At that point, the Grand Blanc police officer approached, and a church member also approached the scene, holding a pistol. | R8: 1 | S8: https://www.cbsnews.com/detroit/news/prosecutor-declines-to-charge-officers-who-fired-at-grand-blanc-church-attacker/ | T8: https://www.theguardian.com/us-news/2025/nov/01/michigan-mormon-church-shooter

Sheet Cases missed by FBI
A1: No. | B1: Category | C1: Date | D1: State | E1: City | F1: Summary | G1: Note (i.e. The civilian who stopped the attack 1-accidentally shot a bystander; 2-got in the way of police; 3-had the gun taken away from them; 4-is themselves shot and wounded; 5-is themselves shot and killed; etc.) | H1: gun free zone | I1: gun free zone note | J1: Quote | K1: Location | L1: News Source
A2: 1 | B2: Likely mass public shooting | C2: 45669 | D2: Nebraska | E2: Omaha | F2: The suspect became upset after being asked to leave an after-hours gathering at a business, returned with a gun, made threats, and began firing. At that point, an armed citizen intervened and shot him to protect others in self-defense. | G2: 4 | H2: 0 | J2: Kleine said the man was acting in self-defense and saving the lives of others when he shot and killed Brandon Jones around 3 a.m. near 24th and Binney Streets. According to Kleine, Jones was asked by management to leave the club. Jones angrily left the club. He got a gun, went back to the club, brandished the gun and started firing it while making threats, Kleine said. Kleine added Jones’ gunfire hit several people. The man, whom Kleine declined to identify, returned fire, striking and ultimately killing Jones outside the club, which had a large crowd of people inside. Jones was pronounced dead at the Nebraska Medical Center. Blood stains could be seen as recently as Tuesday on the sidewalk in front of and near the club… Were it not for the man’s actions, Kleine inferred that perhaps more people would have been shot. “He was actually protecting everybody that was at that location,” Kleine said… | K2: outside the club | L2: https://omaha.com/news/local/crime-courts/man-was-protecting-others-when-he-shot-killed-another-man-outside-north-omaha-club-prosecutor/article_1e0a8f80-d376-11ef-94bc-1758844629c1.html | M2: https://www.ketv.com/article/douglas-county-attorney-no-charges-filed-deadly-omaha-shooting/63433899
A3: 2 | B3: Likely mass public shooting | C3: 45674 | D3: Florida | E3: West Palm Beach | F3: The suspect shot and killed a coworker and wounded another at a West Palm Beach warehouse, attempted to reload his gun, and was stopped when a supervisor—who had retrieved a firearm—and other employees confronted him and physically restrained him until deputies arrived. | G3: 0 | H3: 0 | J3: The shooting took place Friday just after 11:30 a.m. at Coastal Metal, located at 9040 Belvedere Road near Royal Palm Beach… The supervisor of the warehouse told detectives that Morgan was a welder and Edwards was his assistant. “Edwards was not showing up to work on time or at all and would be fired,” the report said. According to the supervisor, Morgan and Edwards “got along fine” and there had been “no issues between them,” the affidavit said. The supervisor also said that he spotted both men earlier in the day and “everything appeared normal.” However, later on, the supervisor said he was in his upstairs office and heard multiple gunshots, prompting him to grab his firearm and head downstairs to the location of the shooting. He told detectives he got to their workstation and saw Edwards holding a firearm and standing over Morgan while attempting to reload the weapon. The supervisor said he told Edwards to drop the gun while he and other employees pushed the suspect to the ground and called 911… Edwards is facing a charge of first-degree murder and a charge of aggravated battery with a deadly weapon… | K3: at a welding workstation | L3: https://www.wptv.com/news/palm-beach-county/region-c-palm-beach-county/welder-killed-in-workplace-shooting-was-shot-in-the-head-by-his-assistant-affidavit-says
A4: 3 | B4: Suspect with gun fired first | C4: 45703 | D4: Texas | E4: Houston | F4: A dispute between neighbors following a child's birthday party escalated after the suspect confronted the gathering over a dog. The suspect allegedly opened fire, wounding multiple people. Several people in the crowd returned fire, striking the suspect multiple times before he was taken into custody. | G4: 0 | H4: 0 | J4: Video shows the moment a northeast Harris County man opened fire on a crowd of people after a child’s birthday party… Surveillance video shows a man deputies identify as Murray’s neighbor, James Thompson, walking out of the house next door. He begins shouting something about a dog, and several of Murray’s guests start shouting obscenities at him. “Things just kind of unraveled really quickly. Someone threw, like, a water bottle, and he just started shooting at everybody,” said Murray… Deputies say several people in the crowd returned fire, hitting Thompson multiple times… | K4: in the driveway on Bradfield Manor Drive | L4: https://abc13.com/post/neighbor-opens-fire-crowd-childs-birthday-party-condo-complex-elmcroft-southwest-houston-video-shows/15934526/
A5: 4 | B5: Suspect with gun fired first | C5: 45747 | D5: Texas | E5: San Antonio | F5: The suspect observed a fight between two groups on the patio of Aura Bar and Lounge, drew a handgun, and opened fire on the crowd, wounding four people. An armed bystander returned fire, fatally shooting the suspect while also being wounded in the exchange. | G5: 4 | H5: 0 | J5: Police said that the shooting happened around 12:45 a.m. at the patio of the Aura Bar and Lounge near the corner of Ironside drive and Wurzbach Road. Investigators said that two groups of people were arguing on the patio, which then boiled over into a fight. Vela, who was in the parking lot, allegedly saw the fight, pulled out a handgun, and opened fire on the brawl. A bystander pulled out his own gun and fired back, fatally striking Vela. That bystander was also wounded by Vela’s gunfire, and was rushed to the hospital in critical condition. In total, the bystander, two women, and one man at the scene were all injured by the gunfire. | K5: in the parking lot | L5: https://foxsanantonio.com/newsletter-daily/suspect-killed-in-fatal-bar-gunfight-identified-accused-of-wounding-four-victims-local-news-near-me-crime-law-public-safety
